BEGIN:VCALENDAR
PRODID:NingEventWidget-v1
VERSION:2.0
METHOD:PUBLISH
BEGIN:VTIMEZONE
TZID:Pacific/Midway
X-LIC-LOCATION:Pacific/Midway
BEGIN:STANDARD
TZOFFSETFROM:-1100
TZOFFSETTO:-1100
TZNAME:SST
DTSTART:19700101T000000
END:STANDARD
END:VTIMEZONE
BEGIN:VEVENT
UID:3646443:Event:71066
DTSTAMP:20260422T183011Z
SUMMARY:Corn Stover Baling Demonstrations
DESCRIPTION:\r\nThese trial days will demonstrate the field protocol a
 nd equipment (provided by Advantage Farm Equipment) selected by CSPC t
 o bale and stack large square bales of corn stover.\r\nThis demonstrat
 ion will be very similar to the process used for the biomass supply ch
 ain in southwestern Ontario as Comet Biorefining announced previously 
 that Sarnia, Ontario will be the location of its commercial-scale biom
 ass derived sugar facility.\r\n\r\n**If weather is questionable please
  call Brian Cofell at #519-312-0267 and listen to voicemail**\r\n\r\nF
 or Inquiries Please Email:\r\n \r\nBrian Cofell,\r\nGeneral Manager,\
 r\nCellulosic Sugar Producers Co-op\r\nEmail: brianc@cspcoop.com\r\nT
 el: 519.312.0267\r\nCorn Stover Baling Demonstrations \n\nFor more in
 formation visit https://ontag.farms.com/events/corn-stover-baling-demo
 nstrations-1
DTSTART;TZID=Pacific/Midway:20171116T000000
DTEND;TZID=Pacific/Midway:20171116T235900
CATEGORIES:baling, demonstrations
LOCATION:Vanek Farms
WEBSITE:http://www.cspcoop.com
URL:http://www.cspcoop.com
CONTACT:519.312.0267
ORGANIZER:Cellulosic Sugar Producers Co-operative
ATTACH;FMTTYPE="image/jpeg":
ATTENDEE;ROLE=REQ-PARTICIPANT;PARTSTAT=ACCEPTED;RSVP=TRUE;CN="OntAG Ad
 min":https://ontag.farms.com/profile/OntAGAdmin
END:VEVENT
END:VCALENDAR
