BEGIN:VCALENDAR
PRODID:NingEventWidget-v1
VERSION:2.0
METHOD:PUBLISH
BEGIN:VTIMEZONE
TZID:Pacific/Midway
X-LIC-LOCATION:Pacific/Midway
BEGIN:STANDARD
TZOFFSETFROM:-1100
TZOFFSETTO:-1100
TZNAME:SST
DTSTART:19700101T000000
END:STANDARD
END:VTIMEZONE
BEGIN:VEVENT
UID:3646443:Event:68068
DTSTAMP:20260421T182222Z
SUMMARY:Cost of Production Workshop
DESCRIPTION:Knowing and using your cost of production is an important 
 tool when trying to manage in times of shrinking margins.  This sessi
 on will outline the process and use of COP budgeting for farm-level de
 cision-making. Facilitated by OMAFRA Business Management Unit staff.\n
 When?      Mar. 1, 2017,  9:30 am to noon\nCost?        $
 10.00 per person\nPre-Register By: Fri. Feb. 24, 2017\n \n\nFor more 
 information visit https://ontag.farms.com/events/cost-of-production-wo
 rkshop
DTSTART;TZID=Pacific/Midway:20170301T093000
DTEND;TZID=Pacific/Midway:20170301T120000
CATEGORIES:course
LOCATION:Grey County Agricultural Services Centre Boardroom
WEBSITE:http://www.greyagservices.ca/index.php/grey-agricultural-servi
 ces/winter-course-registration
URL:http://www.greyagservices.ca/index.php/grey-agricultural-services/
 winter-course-registration
CONTACT:519 986-3756
ORGANIZER:Grey County Agricultural Services Centre
ATTACH;FMTTYPE="image/jpeg":http://storage.ning.com/topology/rest/1.0/
 file/get/1091545811?profile=original
ATTENDEE;ROLE=REQ-PARTICIPANT;PARTSTAT=ACCEPTED;RSVP=TRUE;CN="Grey Bru
 ce Farmers' Week":https://ontag.farms.com/profile/GreyBruceFarmersWeek
END:VEVENT
END:VCALENDAR
