BEGIN:VCALENDAR
PRODID:NingEventWidget-v1
VERSION:2.0
METHOD:PUBLISH
BEGIN:VTIMEZONE
TZID:Pacific/Midway
X-LIC-LOCATION:Pacific/Midway
BEGIN:STANDARD
TZOFFSETFROM:-1100
TZOFFSETTO:-1100
TZNAME:SST
DTSTART:19700101T000000
END:STANDARD
END:VTIMEZONE
BEGIN:VEVENT
UID:3646443:Event:72713
DTSTAMP:20260422T133307Z
SUMMARY:Cover Crop, and Double Crop Forages for Sheep and Cattle - 3 C
 M CEUs available
DESCRIPTION:Facilitators: Christoph Wand, Christine O’Reilly James B
 yrne and Producer Panelists\nThis course is for Sheep, Cattle, and Cro
 p producers who are interested in growing cover crops and double crops
  as forages for livestock. Topics to be discussed will include: Land r
 ental/tenancy between livestock and crop producers; Fencing; Grazing s
 pecies selection/establishment/ seeding; Grazing tips; Performance exp
 ectations; Possible issues; Prevention of animal health concerns; Data
  from University of Guelph trials; and case studies/panel. Facilitator
 s from OMAFRA will include: Christoph Wand, Christine O’Reilly, and 
 James Byrne. Producers will also be on hand to share their experiences
 . Wednesday, March 21, 2018  Time: 1:00 pm to 4:00 pm Cost: $10 per p
 erson. Phone: 519-986-3756 Fax: 519-986-2643 Email: info@greyagservice
 s.ca Website: www.greyagservices.ca To Register: Call 519-986-3756 Pre
 -Register by: Mon. Mar. 19, 2018\n\nFor more information visit https:/
 /ontag.farms.com/events/cover-crop-and-double-crop-forages-for-sheep-a
 nd-cattle-3-cm-ceus
DTSTART;TZID=Pacific/Midway:20180321T130000
DTEND;TZID=Pacific/Midway:20180321T160000
CATEGORIES:course
LOCATION:Grey Ag Services Boardroom
WEBSITE:http://www.greyagservices.ca/index.php/grey-agricultural-servi
 ces/contact-us
URL:http://www.greyagservices.ca/index.php/grey-agricultural-services/
 contact-us
CONTACT:519 986-3756
ORGANIZER:Grey County Agricultural Services Centre
ATTACH;FMTTYPE="image/jpeg":http://storage.ning.com/topology/rest/1.0/
 file/get/1091551293?profile=original
ATTENDEE;ROLE=REQ-PARTICIPANT;PARTSTAT=ACCEPTED;RSVP=TRUE;CN="Grey Bru
 ce Farmers' Week":https://ontag.farms.com/profile/GreyBruceFarmersWeek
END:VEVENT
END:VCALENDAR
