BEGIN:VCALENDAR
PRODID:NingEventWidget-v1
VERSION:2.0
METHOD:PUBLISH
BEGIN:VTIMEZONE
TZID:Pacific/Midway
X-LIC-LOCATION:Pacific/Midway
BEGIN:STANDARD
TZOFFSETFROM:-1100
TZOFFSETTO:-1100
TZNAME:SST
DTSTART:19700101T000000
END:STANDARD
END:VTIMEZONE
BEGIN:VEVENT
UID:3646443:Event:20063
DTSTAMP:20260422T095716Z
SUMMARY:CRFA Show
DESCRIPTION:\n\nThe CRFA Show is the leading foodservice and hospitali
 ty event in Canada. A comprehensive forum of industry products, the CR
 FA Show attracts 13,000 industry professionals and puts them face to f
 ace with exhibitors showcasing all their latest products. From new tre
 nds in foodservice to the latest in energy efficient equipment, restau
 rant owners, operators and buyers will find everything they are lookin
 g for at this convenient, one-stop marketplace.\n\n\n\n\n\nFor more in
 formation visit https://ontag.farms.com/events/crfa-show
DTSTART;TZID=Pacific/Midway:20120304T110000
DTEND;TZID=Pacific/Midway:20120306T160000
CATEGORIES:industry, trade, show
LOCATION:Direct Energy Centre, Exhibition Place, Toronto
WEBSITE:http://www.crfashow.ca
URL:http://www.crfashow.ca
CONTACT:1-800-387-5649
ORGANIZER:CRFA Show
ATTACH;FMTTYPE="image/jpeg":http://storage.ning.com/topology/rest/1.0/
 file/get/1091513428?profile=original
ATTENDEE;ROLE=REQ-PARTICIPANT;PARTSTAT=ACCEPTED;RSVP=TRUE;CN="Lisa Mic
 haels":https://ontag.farms.com/profile/LisaMichaels
END:VEVENT
END:VCALENDAR
