BEGIN:VCALENDAR
PRODID:NingEventWidget-v1
VERSION:2.0
METHOD:PUBLISH
BEGIN:VTIMEZONE
TZID:Pacific/Midway
X-LIC-LOCATION:Pacific/Midway
BEGIN:STANDARD
TZOFFSETFROM:-1100
TZOFFSETTO:-1100
TZNAME:SST
DTSTART:19700101T000000
END:STANDARD
END:VTIMEZONE
BEGIN:VEVENT
UID:3646443:Event:18479
DTSTAMP:20260421T084529Z
SUMMARY:Crop Sen$e
DESCRIPTION:A conference for youth ages 17-25 focused on the business 
 management side of cropping. During the conference topics such as mark
 eting, production, financial management, human resources, social respo
 nsibility, succession planning, business structure and business strate
 gy will be covered. These topics will be addressed through a variety o
 f guest speakers, farm tours and presentations.\nRegistration deadline
  - July 15Costs $100 plus HST = $113.00\n\nFor more information visit 
 https://ontag.farms.com/events/crop-sene
DTSTART;TZID=Pacific/Midway:20110818T110000
DTEND;TZID=Pacific/Midway:20110820T140000
CATEGORIES:youth, conference
LOCATION:University of Guelph Ridgetown College Campus
WEBSITE:http://www.4-hontario.ca/youth/opportunities/camps-conferences
 /crop-sense.aspx
URL:http://www.4-hontario.ca/youth/opportunities/camps-conferences/cro
 p-sense.aspx
CONTACT:1-877-410-6748
ORGANIZER;CN="4-H Ontario":https://ontag.farms.com/profile/4HOntario
ATTACH;FMTTYPE="image/jpeg":http://storage.ning.com/topology/rest/1.0/
 file/get/1091512381?profile=original
ATTENDEE;ROLE=REQ-PARTICIPANT;PARTSTAT=ACCEPTED;RSVP=TRUE;CN="Lucknow 
 Co-op":https://ontag.farms.com/profile/LucknowCoop
ATTENDEE;ROLE=REQ-PARTICIPANT;PARTSTAT=ACCEPTED;RSVP=TRUE;CN="4-H Onta
 rio":https://ontag.farms.com/profile/4HOntario
END:VEVENT
END:VCALENDAR
