BEGIN:VCALENDAR
PRODID:NingEventWidget-v1
VERSION:2.0
METHOD:PUBLISH
BEGIN:VTIMEZONE
TZID:Pacific/Midway
X-LIC-LOCATION:Pacific/Midway
BEGIN:STANDARD
TZOFFSETFROM:-1100
TZOFFSETTO:-1100
TZNAME:SST
DTSTART:19700101T000000
END:STANDARD
END:VTIMEZONE
BEGIN:VEVENT
UID:3646443:Event:101751
DTSTAMP:20260420T184042Z
SUMMARY:Crops Day Grey Bruce Farmers Week 2021
DESCRIPTION:100% \nOnline this year!   Register online\nGBFW welcom
 es producers and agribusiness from across Canada and beyond to this Vi
 rtual Online event!\nConference content will be available live during 
 the week, and available for 30 days following the event.\nIn 2021, GBF
 W is going Virtual.  It will be an 8 day agricultural conference feat
 uring a program dedicated to each of the major commodity groups in Gre
 y and Bruce counties and far beyond, plus, feature the exhibitors and 
 sponsors on Trade Show Day.  Everyone from anywhere is encouraged to 
 check out and participate this incredible conference.\nSince GBFW has 
 been live streaming their conference for the past 3 years, going virtu
 al is an easier pivot for them.  They are confident that the new virt
 ual delivery method of their educational content, will be a successful
  venture!\n\nFor more information visit https://ontag.farms.com/events
 /crops-day-grey-bruce-farmers-week-2021
DTSTART;TZID=Pacific/Midway:20210112T111500
DTEND;TZID=Pacific/Midway:20210112T170000
CATEGORIES:agricultural, education, conference
LOCATION:ONLINE Grey Agricultual Services Services
WEBSITE:http://www.greybrucefarmersweek.ca
URL:http://www.greybrucefarmersweek.ca
CONTACT:5199863756
ORGANIZER:Grey Ag Services
ATTACH;FMTTYPE="image/jpeg":https://storage.ning.com/topology/rest/1.0
 /file/get/8220931494?profile=original
ATTENDEE;ROLE=REQ-PARTICIPANT;PARTSTAT=ACCEPTED;RSVP=TRUE;CN="Grey Bru
 ce Farmers' Week":https://ontag.farms.com/profile/GreyBruceFarmersWeek
END:VEVENT
END:VCALENDAR
