BEGIN:VCALENDAR
PRODID:NingEventWidget-v1
VERSION:2.0
METHOD:PUBLISH
BEGIN:VTIMEZONE
TZID:Pacific/Midway
X-LIC-LOCATION:Pacific/Midway
BEGIN:STANDARD
TZOFFSETFROM:-1100
TZOFFSETTO:-1100
TZNAME:SST
DTSTART:19700101T000000
END:STANDARD
END:VTIMEZONE
BEGIN:VEVENT
UID:3646443:Event:67480
DTSTAMP:20260421T105919Z
SUMMARY:Crops Day
DESCRIPTION:Grey Bruce Farmers’ Week (#GBFW17), in its 51st year, wi
 ll run from Wednesday, January 4th to Tuesday, January 10th, starting 
 with Beef Day, and ending on Crops Day.  It is a 7 day Agricultural C
 onference packed with a most impressive and informative line-up of spe
 akers!   The coordinators for this event, Grey County Ag Services, i
 n conjunction with agricultural commodity leaders from Grey and Bruce 
 Counties, have attempted to feature at least one high profile speaker 
 for each day, targeting the issues and challenges facing the farming c
 ommunity today. \n \nHere’s a glimpse of some of the featured keyn
 ote speakers and presentations:\n\nCrops Day will be exciting, so come
  early to get a chair.  First we will get an update on MPAC and Farm 
 Assessments. Greg Peterson, Peterson Brothers, Kansas U.S.A., known by
  many because of his Social Media presence, will share the importance 
 of Advocating for Agriculture.  Moe Agostino, Chief Commodity Strateg
 ist, Farms.com Risk Management, will provide a forecast of 2017 Grain 
 & Basis Outlook and Opportunities.  Perennial favourite, Peter Johnso
 n, Agronomist with RealAgriculture returns to divulge his secrets abou
 t How to Make $$ in 2017. \n\nOn Crops Day, two producers will highli
 ght their Great Lakes Agricultural Stewardship Initiative Projects.\n\
 n\n\n\nFor more information visit https://ontag.farms.com/events/crops
 -day
DTSTART;TZID=Pacific/Midway:20170110T100000
DTEND;TZID=Pacific/Midway:20170110T160000
CATEGORIES:conference
LOCATION:Elmwood Community Centre
WEBSITE:http://www.greyagservices.ca/index.php/grey-bruce-farmer-s-wee
 k/program/crops-day
URL:http://www.greyagservices.ca/index.php/grey-bruce-farmer-s-week/pr
 ogram/crops-day
CONTACT:519 986-3756
ORGANIZER;CN="Grey Bruce Farmers' Week":https://ontag.farms.com/profil
 e/GreyBruceFarmersWeek
ATTACH;FMTTYPE="image/jpeg":http://storage.ning.com/topology/rest/1.0/
 file/get/1091547078?profile=original
ATTENDEE;ROLE=REQ-PARTICIPANT;PARTSTAT=ACCEPTED;RSVP=TRUE;CN="Grey Bru
 ce Farmers' Week":https://ontag.farms.com/profile/GreyBruceFarmersWeek
END:VEVENT
END:VCALENDAR
