BEGIN:VCALENDAR
PRODID:NingEventWidget-v1
VERSION:2.0
METHOD:PUBLISH
BEGIN:VTIMEZONE
TZID:Pacific/Midway
X-LIC-LOCATION:Pacific/Midway
BEGIN:STANDARD
TZOFFSETFROM:-1100
TZOFFSETTO:-1100
TZNAME:SST
DTSTART:19700101T000000
END:STANDARD
END:VTIMEZONE
BEGIN:VEVENT
UID:3646443:Event:60979
DTSTAMP:20260423T092640Z
SUMMARY:CURRENT & CONNECTED Conference
DESCRIPTION:CAFA's annual CURRENT & CONNECTED Conference in Woodstock 
 provides professional development for farm industry professionals and 
 in-person networking for a day that is sure to please.  Featured gues
 t speakers and topics this year include:\nBrent VanParys and Hali VanV
 liet of BDO's SuccessCare Program explaining how to build and transiti
 on three kinds of wealth. Next we have Karl Volkmar talking about AAFC
  research and its importance to Ontario's farmers.  John Mill will th
 en explain the three kinds of farm business structures and how and whe
 n best to apply each.  Gary van Bolderen, Chair of Canadian Farm Buil
 ders is going to share information on new rules that will impact farm 
 building plans.  We end the day with Naomi Loewith with advice on how
  to avoid and manage legal disputes.\nCome and learn more about what i
 s affecting Ontario farms and connect with other farm professionals!\n
 \nFor more information visit https://ontag.farms.com/events/current-co
 nnected-conference-3
DTSTART;TZID=Pacific/Midway:20150604T090000
DTEND;TZID=Pacific/Midway:20150604T163000
CATEGORIES:educational
LOCATION:Quality Hotel & Suites
WEBSITE:
URL:
CONTACT:1-877-474-2871
ORGANIZER:Liz Robertson
ATTACH;FMTTYPE="image/jpeg":http://storage.ning.com/topology/rest/1.0/
 file/get/1091539318?profile=original
ATTENDEE;ROLE=REQ-PARTICIPANT;PARTSTAT=ACCEPTED;RSVP=TRUE;CN="Liz Robe
 rtson":https://ontag.farms.com/profile/lizrobertson56
END:VEVENT
END:VCALENDAR
