BEGIN:VCALENDAR
PRODID:NingEventWidget-v1
VERSION:2.0
METHOD:PUBLISH
BEGIN:VTIMEZONE
TZID:Pacific/Midway
X-LIC-LOCATION:Pacific/Midway
BEGIN:STANDARD
TZOFFSETFROM:-1100
TZOFFSETTO:-1100
TZNAME:SST
DTSTART:19700101T000000
END:STANDARD
END:VTIMEZONE
BEGIN:VEVENT
UID:3646443:Event:58395
DTSTAMP:20260421T230401Z
SUMMARY:CURRENT & CONNECTED Conference
DESCRIPTION:One of the best events for farm industry stake holders to 
 learn about issues affecting farm clients and with solutions.  Timely
  information, top notch speakers and a unique in-person networking opp
 ortunity with the focus on farms.  Topics include: economic outlook, 
 farm liability risk management, future farm equipment and how it will 
 drive changes in farm management, the power of words in client relatio
 nships, production cost insurance, farmland lease financing and the im
 portance of knowing a farm's cost of production.\n\nFor more informati
 on visit https://ontag.farms.com/events/current-connected-conference
DTSTART;TZID=Pacific/Midway:20141120T090000
DTEND;TZID=Pacific/Midway:20141120T163000
CATEGORIES:conference
LOCATION:Niverville Heritage Centre
WEBSITE:
URL:
CONTACT:306-466-2294
ORGANIZER:Liz Robertson
ATTACH;FMTTYPE="image/jpeg":
ATTENDEE;ROLE=REQ-PARTICIPANT;PARTSTAT=ACCEPTED;RSVP=TRUE;CN="Liz Robe
 rtson":https://ontag.farms.com/profile/lizrobertson56
END:VEVENT
END:VCALENDAR
