BEGIN:VCALENDAR
PRODID:NingEventWidget-v1
VERSION:2.0
METHOD:PUBLISH
BEGIN:VTIMEZONE
TZID:Pacific/Midway
X-LIC-LOCATION:Pacific/Midway
BEGIN:STANDARD
TZOFFSETFROM:-1100
TZOFFSETTO:-1100
TZNAME:SST
DTSTART:19700101T000000
END:STANDARD
END:VTIMEZONE
BEGIN:VEVENT
UID:3646443:Event:53805
DTSTAMP:20260423T115620Z
SUMMARY:Day for Bees and Agriculture
DESCRIPTION:Final%20Bee%20poster.jpg\nDay for Bees and Agriculture - H
 osted by Grey Ag Services; The Independent Commercial Beekeepers Organ
 ization; and Georgian Soil and Crop Improvement Assoc. at Osprey Bluff
 s Honey Company, 634386  63 Road, Grey Highlands, ON N0C 1C0.\nTopics
  will include Bee Education; Neonicotinoids/Bee Research and OSCIA Str
 ip Trials; Fluency Agents; Deflector Kits for Planters; Seed Treatment
 s; and Alternative Land Use Services Grey Bruce.  The speakers will e
 ach present short info sessions, followed by an hour of networking and
  conversation during refreshments.  Refreshments sponsored by ALUS an
 d OIA Huronia Branch.\nFor further info please contact Grey Ag Service
 s, 519-986-3756, info@greyagservices.ca; or Hugh Simpson, email beekee
 per@ospreybluffshoney.ca.  Twitter - @Ospreybeekeeper or GBFarmerswee
 k  #beeAg.\nPlease bring your own chair.\n \n\nFor more information 
 visit https://ontag.farms.com/events/day-for-bees-and-agriculture
DTSTART;TZID=Pacific/Midway:20140820T130000
DTEND;TZID=Pacific/Midway:20140820T160000
CATEGORIES:educational
LOCATION:Osprey Bluffs Honey Company
WEBSITE:http://www.greyagservices.ca/index.php/georgian-soil-crop/even
 ts
URL:http://www.greyagservices.ca/index.php/georgian-soil-crop/events
CONTACT:519-986-3756
ORGANIZER:Hosted by Grey Ag Services; The Independent Commercial Beeke
 epers Organization; and Georgian Soil and Crop Improvement Assoc.
ATTACH;FMTTYPE="image/jpeg":http://storage.ning.com/topology/rest/1.0/
 file/get/1091524254?profile=original
ATTENDEE;ROLE=REQ-PARTICIPANT;PARTSTAT=ACCEPTED;RSVP=TRUE;CN="Grey Bru
 ce Farmers' Week":https://ontag.farms.com/profile/GreyBruceFarmersWeek
END:VEVENT
END:VCALENDAR
