BEGIN:VCALENDAR
PRODID:NingEventWidget-v1
VERSION:2.0
METHOD:PUBLISH
BEGIN:VTIMEZONE
TZID:Pacific/Midway
X-LIC-LOCATION:Pacific/Midway
BEGIN:STANDARD
TZOFFSETFROM:-1100
TZOFFSETTO:-1100
TZNAME:SST
DTSTART:19700101T000000
END:STANDARD
END:VTIMEZONE
BEGIN:VEVENT
UID:3646443:Event:69871
DTSTAMP:20260421T062755Z
SUMMARY:Dundas SCIA Summer Bus Trip
DESCRIPTION:Dundas SCIA Summer Bus TripDate - July 23,2017 to July 27,
  2017 Contact Name - Graham Duke at 613-448-2180 Alt Contact Name - Ro
 n Toonders at 613-880 9279 \n\nFor more information visit https://ont
 ag.farms.com/events/dundas-scia-summer-bus-trip
DTSTART;TZID=Pacific/Midway:20170723T000000
DTEND;TZID=Pacific/Midway:20170727T235900
CATEGORIES:summer, bus, trip
LOCATION:Prince Edward Island
WEBSITE:https://www.ontariosoilcrop.org/blog/tag/dundas-scia/
URL:https://www.ontariosoilcrop.org/blog/tag/dundas-scia/
CONTACT:Graham Duke 613-448-2180 or Ron Toonders 613-880 9279.
ORGANIZER;CN="OntAG Admin":https://ontag.farms.com/profile/OntAGAdmin
ATTACH;FMTTYPE="image/jpeg":
ATTENDEE;ROLE=REQ-PARTICIPANT;PARTSTAT=ACCEPTED;RSVP=TRUE;CN="OntAG Ad
 min":https://ontag.farms.com/profile/OntAGAdmin
END:VEVENT
END:VCALENDAR
