BEGIN:VCALENDAR
PRODID:NingEventWidget-v1
VERSION:2.0
METHOD:PUBLISH
BEGIN:VTIMEZONE
TZID:Pacific/Midway
X-LIC-LOCATION:Pacific/Midway
BEGIN:STANDARD
TZOFFSETFROM:-1100
TZOFFSETTO:-1100
TZNAME:SST
DTSTART:19700101T000000
END:STANDARD
END:VTIMEZONE
BEGIN:VEVENT
UID:3646443:Event:49870
DTSTAMP:20260421T104201Z
SUMMARY:Durham Region Federation of Agriculture AGM
DESCRIPTION:Annual Regional Meetings for Durham East & Durham West.\nR
 eports of Yearly activities, finances and elections for local delegate
 s to OFA AGM in November 2013. Desserts at 7:30 . Meeting at 8:00 p.m.
 \n\nFor more information visit https://ontag.farms.com/events/durham-r
 egion-federation-of-agriculture-agm
DTSTART;TZID=Pacific/Midway:20131015T193000
DTEND;TZID=Pacific/Midway:20131015T220000
CATEGORIES:annual, meeting
LOCATION:Nestleton Community Hall
WEBSITE:https://maps.google.com/maps?q=3971+Hwy+%237A+Nestleton+Ontari
 o+Canada&hl=en&ll=44.138471,-78.800812&spn=0.008254,0.013797&sll=37.06
 25,-95.677068&sspn=37.273371,56.513672&hnear=3971+Ontario+7A,+Nestleto
 n+Station,+Ontario+L0B+1L0,+Canada&t=m&z=16
URL:https://maps.google.com/maps?q=3971+Hwy+%237A+Nestleton+Ontario+Ca
 nada&hl=en&ll=44.138471,-78.800812&spn=0.008254,0.013797&sll=37.0625,-
 95.677068&sspn=37.273371,56.513672&hnear=3971+Ontario+7A,+Nestleton+St
 ation,+Ontario+L0B+1L0,+Canada&t=m&z=16
CONTACT:905 986-0657
ORGANIZER;CN="Karen Yellowlees":https://ontag.farms.com/profile/KarenY
 ellowlees
ATTACH;FMTTYPE="image/jpeg":
ATTENDEE;ROLE=REQ-PARTICIPANT;PARTSTAT=ACCEPTED;RSVP=TRUE;CN="Karen Ye
 llowlees":https://ontag.farms.com/profile/KarenYellowlees
END:VEVENT
END:VCALENDAR
