BEGIN:VCALENDAR
PRODID:NingEventWidget-v1
VERSION:2.0
METHOD:PUBLISH
BEGIN:VTIMEZONE
TZID:Pacific/Midway
X-LIC-LOCATION:Pacific/Midway
BEGIN:STANDARD
TZOFFSETFROM:-1100
TZOFFSETTO:-1100
TZNAME:SST
DTSTART:19700101T000000
END:STANDARD
END:VTIMEZONE
BEGIN:VEVENT
UID:3646443:Event:112897
DTSTAMP:20260421T112618Z
SUMMARY:Eastern Ontario Crop Conference
DESCRIPTION:The ONTARIO Agricultural CONFERENCE is excited to bring yo
 u to the next level with our 2024 conference (#OAgC24). Using the exce
 llent feedback from attendees over the past years, the conference is e
 xpanding to offer even more opportunities for in-person learning, whil
 e maintaining the excellent access to sessions with our virtual format
  as well.\r\nThe 2024 conference will offer attendees the opportunity 
 to join the conference In-Person at 3 separate locations on 3 differen
 t dates in January! Ridgetown, Waterloo and Kemptville will all offer 
 In-Person options, while those choosing the virtual conference will be
  able to access sessions from their home computer and mobile devices, 
 anywhere they happen to be. Of course, In-Person attendees at any loca
 tion will have access to all virtual sessions as well, right up to Mar
 ch 31, 2024.\r\n\r\nJanuary 16, 2024, the Eastern Ontario Crop Confere
 nce hosts the second In-Person day of the conference in Kemptville, wi
 th 2 exciting concurrent sessions every hour, a trade show for great d
 iscussions and more!\r\n Sessions from all 3 In-Person events will be 
 recorded and included as ON DEMAND sessions as they become available, 
 to allow all conference attendees access to the incredible information
  that will be delivered. All recorded sessions will be available virtu
 ally until March 31, 2024.\r\nAs well, back by popular demand, TEC Tal
 k Tuesdays will allow participants to join the discussion as conferenc
 e speakers dig into selected topics in more detail on Tuesday evenings
  through January and February, 7:27 pm sharp.\r\nCheck our website www
 .ontarioagconference.ca or follow us on twitter @OAgC24 and stay tuned
  for more details on what promises to be our best conference ever!!\r\
 n Mark your calendars! Registration opens November 1, and In-Person ca
 pacity is limited, so early registration for these events is essential
 .\r\n This is one conference you cannot afford to miss! Hope to see yo
 u there.\r\n For more information, contact\r\n Conference Co-Chair: Al
 bert Tenuta, OMAFRA Box 400 Main St. E. Agronomy Building, Ridgetown C
 ampus Ridgetown, ON N0P 2C0  Email: albert.tenuta@ontario.ca  Ph: 519-
 360-8307\r\nConference Program Chair:  Andrew Barrie, OMAFRA  200 McNa
 b Street, Suite 103  P.O. Box 189, Walkerton, ON N0G 2V0  Email: andre
 w.barrie@ontario.ca  Ph: 519-373-9008\r\nConference Registration Lead:
   Mary Margaret McDonald,  Business Development Centre U of G, Ridgeto
 wn Campus  Ridgetown, ON N0P 2C0  Email: mmcdonal@uoguelph.ca  Ph: 1-8
 66-222-9682\n\nFor more information visit https://ontag.farms.com/even
 ts/eastern-ontario-crop-conference-3
DTSTART;TZID=Pacific/Midway:20240116T000000
DTEND;TZID=Pacific/Midway:20240116T235900
CATEGORIES:conference
LOCATION:Kemptville
WEBSITE:http://www.ontarioagconference.ca
URL:http://www.ontarioagconference.ca
CONTACT:1-866-222-9682
ORGANIZER:ONTARIO Agricultural CONFERENCE
ATTACH;FMTTYPE="image/jpeg":https://storage.ning.com/topology/rest/1.0
 /file/get/12224388665?profile=original
ATTENDEE;ROLE=REQ-PARTICIPANT;PARTSTAT=ACCEPTED;RSVP=TRUE;CN="OntAG Ad
 min":https://ontag.farms.com/profile/OntAGAdmin
END:VEVENT
END:VCALENDAR
