BEGIN:VCALENDAR
PRODID:NingEventWidget-v1
VERSION:2.0
METHOD:PUBLISH
BEGIN:VTIMEZONE
TZID:Pacific/Midway
X-LIC-LOCATION:Pacific/Midway
BEGIN:STANDARD
TZOFFSETFROM:-1100
TZOFFSETTO:-1100
TZNAME:SST
DTSTART:19700101T000000
END:STANDARD
END:VTIMEZONE
BEGIN:VEVENT
UID:3646443:Event:114602
DTSTAMP:20260420T150850Z
SUMMARY:Eastern Ontario Crop Conference
DESCRIPTION:The Eastern Ontario Crop Conference is a cooperative effor
 t between the Ontario Ministry of Agriculture, Food and Agribusiness a
 nd the Eastern Ontario Crop Advisory Committee. This is the premiere f
 ield crop conference in eastern Ontario. The program is designed to pr
 ovide growers and agribusiness personnel with the latest in-depth crop
  management information. Certified Crop Advisor credits are available 
 for most sessions.\n\nFor more information visit https://ontag.farms.c
 om/events/eastern-ontario-crop-conference-4
DTSTART;TZID=Pacific/Midway:20250121T090000
DTEND;TZID=Pacific/Midway:20250121T160000
CATEGORIES:conference
LOCATION:Parish Hall, Kemptville Campus
WEBSITE:https://www.eocc.eastontcropconference.ca/
URL:https://www.eocc.eastontcropconference.ca/
CONTACT:
ORGANIZER:Eastern Ontario Crop Conference
ATTACH;FMTTYPE="image/jpeg":
ATTENDEE;ROLE=REQ-PARTICIPANT;PARTSTAT=ACCEPTED;RSVP=TRUE;CN="OntAG Ad
 min":https://ontag.farms.com/profile/OntAGAdmin
END:VEVENT
END:VCALENDAR
