BEGIN:VCALENDAR
PRODID:NingEventWidget-v1
VERSION:2.0
METHOD:PUBLISH
BEGIN:VTIMEZONE
TZID:Pacific/Midway
X-LIC-LOCATION:Pacific/Midway
BEGIN:STANDARD
TZOFFSETFROM:-1100
TZOFFSETTO:-1100
TZNAME:SST
DTSTART:19700101T000000
END:STANDARD
END:VTIMEZONE
BEGIN:VEVENT
UID:3646443:Event:59531
DTSTAMP:20260419T034618Z
SUMMARY:Eastern Ontario Crop Conference
DESCRIPTION:\n\n\nFor more information visit https://ontag.farms.com/e
 vents/eastern-ontario-crop-conference
DTSTART;TZID=Pacific/Midway:20150210T083000
DTEND;TZID=Pacific/Midway:20150210T170000
CATEGORIES:crop, conference
LOCATION:North Grenville Municipal Centre
WEBSITE:http://www.omafra.gov.on.ca/english/crops/conferences/20150210
 .pdf
URL:http://www.omafra.gov.on.ca/english/crops/conferences/20150210.pdf
CONTACT:
ORGANIZER:OMAFRA & Eastern  Ontario Crop Advisory Committee
ATTACH;FMTTYPE="image/jpeg":http://storage.ning.com/topology/rest/1.0/
 file/get/1091533210?profile=original
ATTENDEE;ROLE=REQ-PARTICIPANT;PARTSTAT=ACCEPTED;RSVP=TRUE;CN="OntAG Ad
 min":https://ontag.farms.com/profile/OntAGAdmin
END:VEVENT
END:VCALENDAR
