BEGIN:VCALENDAR
PRODID:NingEventWidget-v1
VERSION:2.0
METHOD:PUBLISH
BEGIN:VTIMEZONE
TZID:Pacific/Midway
X-LIC-LOCATION:Pacific/Midway
BEGIN:STANDARD
TZOFFSETFROM:-1100
TZOFFSETTO:-1100
TZNAME:SST
DTSTART:19700101T000000
END:STANDARD
END:VTIMEZONE
BEGIN:VEVENT
UID:3646443:Event:19064
DTSTAMP:20260422T063941Z
SUMMARY:Eastern Ontario Crop Diagnostic Day
DESCRIPTION:The Eastern Ontario Crop Diagnostic Day will provide growe
 rs and agri-business personnel with \"hands-on\" learning experiences 
 to assist in the correct identification and treatment of crop problems
  common to eastern Ontario. The program will provide a \"real-world\" 
 environment where agriculturists can hone their crop trouble-shooting 
 skills and evaluate new and alternative management strategies.\n \nFo
 r a complete list of this year's topics and to register please visit t
 he website: http://www.omafra.gov.on.ca/english/crops/conferences/2011
 0719.htm\n\nFor more information visit https://ontag.farms.com/events/
 eastern-ontario-crop
DTSTART;TZID=Pacific/Midway:20110719T083000
DTEND;TZID=Pacific/Midway:20110719T153000
CATEGORIES:crop, diagnostic, field, day
LOCATION:Winchester Research Station
WEBSITE:http://www.omafra.gov.on.ca/english/crops/conferences/20110719
 .htm
URL:http://www.omafra.gov.on.ca/english/crops/conferences/20110719.htm
CONTACT:
ORGANIZER:OMAFRA
ATTACH;FMTTYPE="image/jpeg":http://storage.ning.com/topology/rest/1.0/
 file/get/1091513191?profile=original
ATTENDEE;ROLE=REQ-PARTICIPANT;PARTSTAT=ACCEPTED;RSVP=TRUE;CN="OntAG Ad
 min":https://ontag.farms.com/profile/OntAGAdmin
END:VEVENT
END:VCALENDAR
