BEGIN:VCALENDAR
PRODID:NingEventWidget-v1
VERSION:2.0
METHOD:PUBLISH
BEGIN:VTIMEZONE
TZID:Pacific/Midway
X-LIC-LOCATION:Pacific/Midway
BEGIN:STANDARD
TZOFFSETFROM:-1100
TZOFFSETTO:-1100
TZNAME:SST
DTSTART:19700101T000000
END:STANDARD
END:VTIMEZONE
BEGIN:VEVENT
UID:3646443:Event:64864
DTSTAMP:20260424T124603Z
SUMMARY:Eco Farm Day 2016: From Soil to Table
DESCRIPTION:Presented by Canadian Organic Growers Ottawa - St Lawrence
  - Outaouais Chapter\nKeynote presenter: John Montague of Glen Road Or
 ganics, holistic soil consultant certified by The Soil Foodweb Inc, wi
 th training at Rodale Institute, University of Guelph and Dr Elaine In
 gham at Soil Foodweb Inc. \nKeynote presentation: \"How Nature Feeds 
 Plants\". John will look at essential biology within the soil ecosyste
 m, what they do and how in order to provide fertility to plants. John 
 advocates for feeding soil, not plants, in order to have healthy plant
 s and yields.\nOther topics include:\n\nMob Grazing and Season Extensi
 on\nPractical examples of Holistic Management\nHops: from grower to br
 ewer\nSoil Analysis: Interpretation to Action\nTreatment Free Beekeepi
 ng\nTips for Organic Record Keeping\nOrganic Seed Potato Production\nG
 razing multiple species of livestock together\nLabour Management on th
 e Market Farm\nDirect Marketing Grains to Local Processors\nRocks for 
 Crops\n\nRegistration fees and other details are listed on our website
 : www.ecofarmday.ca.\n\nFor more information visit https://ontag.farms
 .com/events/eco-farm-day-2016-from-soil-to-table
DTSTART;TZID=Pacific/Midway:20160220T000000
DTEND;TZID=Pacific/Midway:20160220T235900
CATEGORIES:conference
LOCATION:Ramada Inn
WEBSITE:http://www.cornwallramada.com
URL:http://www.cornwallramada.com
CONTACT:
ORGANIZER:Canadian Organic Growers Ottawa-St Lawrence-Outaouais Chapte
 r
ATTACH;FMTTYPE="image/jpeg":http://storage.ning.com/topology/rest/1.0/
 file/get/1091542623?profile=original
ATTENDEE;ROLE=REQ-PARTICIPANT;PARTSTAT=ACCEPTED;RSVP=TRUE;CN="Colin Lu
 ndy":https://ontag.farms.com/profile/ColinLundy
END:VEVENT
END:VCALENDAR
