BEGIN:VCALENDAR
PRODID:NingEventWidget-v1
VERSION:2.0
METHOD:PUBLISH
BEGIN:VTIMEZONE
TZID:Pacific/Midway
X-LIC-LOCATION:Pacific/Midway
BEGIN:STANDARD
TZOFFSETFROM:-1100
TZOFFSETTO:-1100
TZNAME:SST
DTSTART:19700101T000000
END:STANDARD
END:VTIMEZONE
BEGIN:VEVENT
UID:3646443:Event:36972
DTSTAMP:20260422T074910Z
SUMMARY:Eco Farm Day - Cornwall
DESCRIPTION:Eco Farm Day - Cornwall\nOrganic, transitional and convent
 ional farmers of field crops, market gardens, and livestock rely on Ec
 o Farm Day for the best training, information, and commerce opportunit
 ies.\nKeynote: Maude Barlow, Council of Canadians\nKeynote: Ralph Mart
 in, Loblaw Chair in Sustainable Food Production at the Ontario Agricul
 tural College, University of Guelph\nRegister by online or by mail: ht
 tp://cog.ca/ottawa/eco-farm-day-2013-registration/\nMore info: 613-244
 -4000x2 or email ottawachapter@cog.ca\nVisit our website: http://cog.c
 a/ottawa/eco-farm-day/\nFacebook: Canadian Organic Growers\n\nFor more
  information visit https://ontag.farms.com/events/eco-farm-day-cornwal
 l
DTSTART;TZID=Pacific/Midway:20130223T000000
DTEND;TZID=Pacific/Midway:20130224T235900
CATEGORIES:ecological, farming, conference
LOCATION:Ramada Inn
WEBSITE:http://www.cornwallramada.com
URL:http://www.cornwallramada.com
CONTACT:For overnight reservations, call 613-933-8000 and request Eco 
 Farm Day rates.
ORGANIZER:Canadian Organic Growers Ottawa - St Lawrence - Outaouais Ch
 apter
ATTACH;FMTTYPE="image/jpeg":http://storage.ning.com/topology/rest/1.0/
 file/get/1091522006?profile=original
ATTENDEE;ROLE=REQ-PARTICIPANT;PARTSTAT=ACCEPTED;RSVP=TRUE;CN="Colin Lu
 ndy":https://ontag.farms.com/profile/ColinLundy
END:VEVENT
END:VCALENDAR
