BEGIN:VCALENDAR
PRODID:NingEventWidget-v1
VERSION:2.0
METHOD:PUBLISH
BEGIN:VTIMEZONE
TZID:Pacific/Midway
X-LIC-LOCATION:Pacific/Midway
BEGIN:STANDARD
TZOFFSETFROM:-1100
TZOFFSETTO:-1100
TZNAME:SST
DTSTART:19700101T000000
END:STANDARD
END:VTIMEZONE
BEGIN:VEVENT
UID:3646443:Event:67574
DTSTAMP:20260422T005740Z
SUMMARY:Ecological Day
DESCRIPTION:Grey Bruce Farmers’ Week (#GBFW17), in its 51st year, wi
 ll run from Wednesday, January 4th to Tuesday, January 10th, starting 
 with Beef Day, and ending on Crops Day.  It is a 7 day Agricultural C
 onference packed with a most impressive and informative line-up of spe
 akers!   The coordinators for this event, Grey County Ag Services, i
 n conjunction with agricultural commodity leaders from Grey and Bruce 
 Counties, have attempted to feature at least one high profile speaker 
 for each day, targeting the issues and challenges facing the farming c
 ommunity today. \n \nHere’s a glimpse of some of the featured keyn
 ote speakers and presentations:\n\nEcological Day has something for ev
 eryone.  Learn about Moveable Greenhouses & Other Season Extending Op
 tions; delve into An Ecosystem Approach to Farming; and take some note
 s about Fencing Options. Don’t miss Chuck Mitchell, a certified Orga
 nic Farm Inspector, who will enlighten the audience with his knowledge
  of Soil Microbiology.\n\n\n \n                   
                            And There will be 
 Much Much More………………\n \n \nFor more details on the spea
 kers planned for each day, please refer to the Grey Bruce Farmers’ W
 eek pages on the Grey Ag website.  If you need detailed information a
 bout any of the presentations, or complete bios, that information is a
 lso available on the website (www.greyagservices.ca).\n\n\nFor more in
 formation visit https://ontag.farms.com/events/ecological-day
DTSTART;TZID=Pacific/Midway:20170109T090000
DTEND;TZID=Pacific/Midway:20170109T160000
CATEGORIES:conference
LOCATION:Elmwood Community Centre
WEBSITE:http://www.greyagservices.ca/index.php/grey-bruce-farmer-s-wee
 k/program/ecological-day
URL:http://www.greyagservices.ca/index.php/grey-bruce-farmer-s-week/pr
 ogram/ecological-day
CONTACT:519 986-3756
ORGANIZER;CN="Grey Bruce Farmers' Week":https://ontag.farms.com/profil
 e/GreyBruceFarmersWeek
ATTACH;FMTTYPE="image/jpeg":http://storage.ning.com/topology/rest/1.0/
 file/get/1091546919?profile=original
ATTENDEE;ROLE=REQ-PARTICIPANT;PARTSTAT=ACCEPTED;RSVP=TRUE;CN="Grey Bru
 ce Farmers' Week":https://ontag.farms.com/profile/GreyBruceFarmersWeek
END:VEVENT
END:VCALENDAR
