BEGIN:VCALENDAR
PRODID:NingEventWidget-v1
VERSION:2.0
METHOD:PUBLISH
BEGIN:VTIMEZONE
TZID:Pacific/Midway
X-LIC-LOCATION:Pacific/Midway
BEGIN:STANDARD
TZOFFSETFROM:-1100
TZOFFSETTO:-1100
TZNAME:SST
DTSTART:19700101T000000
END:STANDARD
END:VTIMEZONE
BEGIN:VEVENT
UID:3646443:Event:21193
DTSTAMP:20260421T101107Z
SUMMARY:Elgin Historical Show
DESCRIPTION:Have you every wondered how farming was done before John D
 eere painted their first tractor green? \n \nHow were the crops sown
  and grown with only manual labour and horse power to help? Well if yo
 u find yourself at the Dan Patterson Conservation Area between 9am and
  5pm on August 12 and 13, or between 8am and 5pm on August the 14th, y
 ou can find out at the Elgin Historical Show.\n \nThis event, held on
  the second full weekend in August shows just how farmers farmed befor
 e the internet, cars, or even electricity.\nOn the Sunday, there is a 
 breakfast from 8 til 10!\n\nFor more information visit https://ontag.f
 arms.com/events/elgin-historical-show
DTSTART;TZID=Pacific/Midway:20110812T000000
DTEND;TZID=Pacific/Midway:20110814T235900
CATEGORIES:historical, show
LOCATION:Dan Patterson Conservation Area
WEBSITE:http://www.google.com/maps?q=Mapleton+Line+St.+Thomas+ON+Canad
 a%3F%3E&daddr=Mapleton+Line,+St+Thomas,+ON+N5P+3T3,+Canada&hl=en&ll=42
 .834814,-81.117725&spn=0.086229,0.219383&geocode=%3BCSx6SFyWIF8-FX1sjQ
 Id_D0q-ylDZLQD_YkuiDEFYpGXzaCdcQ&z=13
URL:http://www.google.com/maps?q=Mapleton+Line+St.+Thomas+ON+Canada%3F
 %3E&daddr=Mapleton+Line,+St+Thomas,+ON+N5P+3T3,+Canada&hl=en&ll=42.834
 814,-81.117725&spn=0.086229,0.219383&geocode=%3BCSx6SFyWIF8-FX1sjQId_D
 0q-ylDZLQD_YkuiDEFYpGXzaCdcQ&z=13
CONTACT:
ORGANIZER:Elgin Historical Society
ATTACH;FMTTYPE="image/jpeg":http://storage.ning.com/topology/rest/1.0/
 file/get/1091512185?profile=original
ATTENDEE;ROLE=REQ-PARTICIPANT;PARTSTAT=ACCEPTED;RSVP=TRUE;CN="Mackenna
  Roth":https://ontag.farms.com/profile/MackennaRoth
END:VEVENT
END:VCALENDAR
