BEGIN:VCALENDAR
PRODID:NingEventWidget-v1
VERSION:2.0
METHOD:PUBLISH
BEGIN:VTIMEZONE
TZID:Pacific/Midway
X-LIC-LOCATION:Pacific/Midway
BEGIN:STANDARD
TZOFFSETFROM:-1100
TZOFFSETTO:-1100
TZNAME:SST
DTSTART:19700101T000000
END:STANDARD
END:VTIMEZONE
BEGIN:VEVENT
UID:3646443:Event:67977
DTSTAMP:20260421T163825Z
SUMMARY:Elgin SCIA Annual Meeting
DESCRIPTION:Elgin SCIA Annual Meeting Keystone Complex in Shedden.  9
  am coffee and visit with industry– program starts 9:30 am. \nSpeak
 ers include Peter Johnson Real Agriculture; Ben Rosser, OMAFRA; Dale C
 owan, AGRIS; Colin Little, LTVCA; Hugh Guerts, MOECC; Jason van Maane
 n, Veritas as well as program updates and project reports.\nRoast Beef
  Dinner $20/person.  Contact Margaret May for  details. mmay@ontari
 osoilcrop.org\n\nFor more information visit https://ontag.farms.com/ev
 ents/elgin-scia-annual-meeting
DTSTART;TZID=Pacific/Midway:20170112T090000
DTEND;TZID=Pacific/Midway:20170112T190000
CATEGORIES:annual, meeting
LOCATION:Keystone Comple
WEBSITE:https://www.ontariosoilcrop.org/event/elgin-scia-annual-meetin
 g/
URL:https://www.ontariosoilcrop.org/event/elgin-scia-annual-meeting/
CONTACT:
ORGANIZER;CN="OntAG Admin":https://ontag.farms.com/profile/OntAGAdmin
ATTACH;FMTTYPE="image/jpeg":http://storage.ning.com/topology/rest/1.0/
 file/get/1091547091?profile=original
ATTENDEE;ROLE=REQ-PARTICIPANT;PARTSTAT=ACCEPTED;RSVP=TRUE;CN="OntAG Ad
 min":https://ontag.farms.com/profile/OntAGAdmin
END:VEVENT
END:VCALENDAR
