BEGIN:VCALENDAR
PRODID:NingEventWidget-v1
VERSION:2.0
METHOD:PUBLISH
BEGIN:VTIMEZONE
TZID:Pacific/Midway
X-LIC-LOCATION:Pacific/Midway
BEGIN:STANDARD
TZOFFSETFROM:-1100
TZOFFSETTO:-1100
TZNAME:SST
DTSTART:19700101T000000
END:STANDARD
END:VTIMEZONE
BEGIN:VEVENT
UID:3646443:Event:6231
DTSTAMP:20260421T194006Z
SUMMARY:Elgin SCIA Tour Today
DESCRIPTION:Steelway Building Systems in Aylmer, Weninger's Sweet Pota
 toes, Rush Creek Winery, Q&Q with Peter Johnson. Cost $15.00 per perso
 n\n\nFor more information visit https://ontag.farms.com/events/elgin-s
 cia-tour-today
DTSTART;TZID=Pacific/Midway:20100810T130000
DTEND;TZID=Pacific/Midway:20100810T200000
CATEGORIES:tour
LOCATION:Elgin County
WEBSITE:http://tvrscia.files.wordpress.com/2010/07/escia-summer-tour.p
 df
URL:http://tvrscia.files.wordpress.com/2010/07/escia-summer-tour.pdf
CONTACT:
ORGANIZER:Elgin Soil & Crop Improvement
ATTACH;FMTTYPE="image/jpeg":
ATTENDEE;ROLE=REQ-PARTICIPANT;PARTSTAT=ACCEPTED;RSVP=TRUE;CN="Cathy Di
 bble":https://ontag.farms.com/profile/CathyDibble890
END:VEVENT
END:VCALENDAR
