BEGIN:VCALENDAR
PRODID:NingEventWidget-v1
VERSION:2.0
METHOD:PUBLISH
BEGIN:VTIMEZONE
TZID:Pacific/Midway
X-LIC-LOCATION:Pacific/Midway
BEGIN:STANDARD
TZOFFSETFROM:-1100
TZOFFSETTO:-1100
TZNAME:SST
DTSTART:19700101T000000
END:STANDARD
END:VTIMEZONE
BEGIN:VEVENT
UID:3646443:Event:3668
DTSTAMP:20260422T033601Z
SUMMARY:Evolution of the Harvest
DESCRIPTION:Elgin County Conference Series Presents: Evolution of the 
 Harvest\n\nA one-day seminar advancing the agricultural community\ntow
 ards a profitable, sustainable future.\n\nWednesday March 3rd, 2010\nN
 ew Sarum Diner, St. Thomas, On\n\nOn March 3rd Elgin County will host 
 a seminar for farmers, agricultural service providers, and rural leade
 rs to learn more about what's around the corner and down the road for 
 on-farm alternative energy, biomass, biofuel and energy crop developme
 nts. Dynamic keynote presentations will be delivered by speakers rangi
 ng from innovative farmers to energy researchers.\n\nFor more informat
 ion visit https://ontag.farms.com/events/evolution-of-the-harvest
DTSTART;TZID=Pacific/Midway:20100303T083000
DTEND;TZID=Pacific/Midway:20100303T143000
CATEGORIES:conference
LOCATION:New Sarum Diner
WEBSITE:http://www.progressivebynature.com
URL:http://www.progressivebynature.com
CONTACT:519-631-1460 ext 164
ORGANIZER;CN="Lindsey M":https://ontag.farms.com/profile/LindseyM
ATTACH;FMTTYPE="image/jpeg":
ATTENDEE;ROLE=REQ-PARTICIPANT;PARTSTAT=ACCEPTED;RSVP=TRUE;CN="Lindsey 
 M":https://ontag.farms.com/profile/LindseyM
END:VEVENT
END:VCALENDAR
