BEGIN:VCALENDAR
PRODID:NingEventWidget-v1
VERSION:2.0
METHOD:PUBLISH
BEGIN:VTIMEZONE
TZID:Pacific/Midway
X-LIC-LOCATION:Pacific/Midway
BEGIN:STANDARD
TZOFFSETFROM:-1100
TZOFFSETTO:-1100
TZNAME:SST
DTSTART:19700101T000000
END:STANDARD
END:VTIMEZONE
BEGIN:VEVENT
UID:3646443:Event:39922
DTSTAMP:20260421T080948Z
SUMMARY:Exploring Rural Land Use: Issues, institutions and change
DESCRIPTION:If you're a land use planner, policy maker, farmer or farm
  organization representative, lender, farm financial advisor or rural 
 realtor, you don’t want to miss Exploring Rural Land Use: Issues, i
 nstitutions and change - a one-day conference that brings together a 
 broad spectrum of stakeholders to discuss crucial issues about rural l
 and use. In addition to a unique networking opportunity, the conferenc
 e will provide:\n\nAn examination of key trends and issues regarding f
 armland in Ontario\nA discussion about the institutions and organizati
 ons that influence the use of land\nA forum to learn more about First 
 Nations land use issues\nA closer look at ongoing property rights in C
 anada and the United States\n\nThe event features keynote speaker Chi
 ef Robert Louie of the Westbank First Nation and Chairman of the Firs
 t Nations Land Advisory Board. His presentation will focus on the Firs
 t Nations Land Management Act - a framework agreement that enables Fir
 st Nations to opt out of the land-related sections of the Indian Act a
 nd develop their own land code.\n\nFor more information visit https://
 ontag.farms.com/events/exploring-rural-land-use-issues-institutions-an
 d-change
DTSTART;TZID=Pacific/Midway:20130514T080000
DTEND;TZID=Pacific/Midway:20130514T170000
CATEGORIES:conference
LOCATION:The Delta Hotel & Conference Centre, Guelph
WEBSITE:http://www.uoguelph.ca/fare/institute/conference.html
URL:http://www.uoguelph.ca/fare/institute/conference.html
CONTACT:905-873-7834
ORGANIZER;CN="Karen Lewis":https://ontag.farms.com/profile/KarenLewis
ATTACH;FMTTYPE="image/jpeg":http://storage.ning.com/topology/rest/1.0/
 file/get/1091521038?profile=original
ATTENDEE;ROLE=REQ-PARTICIPANT;PARTSTAT=ACCEPTED;RSVP=TRUE;CN="Karen Le
 wis":https://ontag.farms.com/profile/KarenLewis
END:VEVENT
END:VCALENDAR
