BEGIN:VCALENDAR
PRODID:NingEventWidget-v1
VERSION:2.0
METHOD:PUBLISH
BEGIN:VTIMEZONE
TZID:Pacific/Midway
X-LIC-LOCATION:Pacific/Midway
BEGIN:STANDARD
TZOFFSETFROM:-1100
TZOFFSETTO:-1100
TZNAME:SST
DTSTART:19700101T000000
END:STANDARD
END:VTIMEZONE
BEGIN:VEVENT
UID:3646443:Event:61049
DTSTAMP:20260422T123456Z
SUMMARY:Fall Farm Craft Show
DESCRIPTION:\nAt Country Heritage Park 8560 Tremaine Road Milton, Onta
 rio   Spring Craft Show May 2nd & 3rd, 2015  Fall Craft Show September
  19th & 20th, 2015  9 a.m. to 4 p.m.   daily Call 1-888-307-3276 for i
 nformation or visit www.countryheritagepark.com\n\nFor more informati
 on visit https://ontag.farms.com/events/fall-farm-craft-show
DTSTART;TZID=Pacific/Midway:20150919T090000
DTEND;TZID=Pacific/Midway:20150920T160000
CATEGORIES:show
LOCATION:Country Heritage Park
WEBSITE:http://www.miltonfarmcraftshows.com/
URL:http://www.miltonfarmcraftshows.com/
CONTACT:1-888-307-3276
ORGANIZER;CN="OntAG Admin":https://ontag.farms.com/profile/OntAGAdmin
ATTACH;FMTTYPE="image/jpeg":http://storage.ning.com/topology/rest/1.0/
 file/get/1091538243?profile=original
ATTENDEE;ROLE=REQ-PARTICIPANT;PARTSTAT=ACCEPTED;RSVP=TRUE;CN="OntAG Ad
 min":https://ontag.farms.com/profile/OntAGAdmin
END:VEVENT
END:VCALENDAR
