BEGIN:VCALENDAR
PRODID:NingEventWidget-v1
VERSION:2.0
METHOD:PUBLISH
BEGIN:VTIMEZONE
TZID:Pacific/Midway
X-LIC-LOCATION:Pacific/Midway
BEGIN:STANDARD
TZOFFSETFROM:-1100
TZOFFSETTO:-1100
TZNAME:SST
DTSTART:19700101T000000
END:STANDARD
END:VTIMEZONE
BEGIN:VEVENT
UID:3646443:Event:8014
DTSTAMP:20260422T114705Z
SUMMARY:Family Snowshoeing @ Longwoods Road Conservation Area
DESCRIPTION:Enjoy the tradition of snowshoeing in Middlesex County. Me
 et at the Longwoods Road Conversation Area at the log cabins for instr
 uction and guided hikes on traditional wood and rawhide snowshoes.  N
 o reservations required.\nAdmission Fee\n$3 plus HST for 18 years and 
 older\n$2 plus HST for 6 - 17 years of age\n6 and under Free\n\nFor mo
 re information visit https://ontag.farms.com/events/family-snowshoeing
 -longwoods
DTSTART;TZID=Pacific/Midway:20110123T120000
DTEND;TZID=Pacific/Midway:20110123T160000
CATEGORIES:family, event
LOCATION:Longwoods Road Conservation Area
WEBSITE:http://www.lowerthames-conservation.on.ca/SpecialEvents.htm
URL:http://www.lowerthames-conservation.on.ca/SpecialEvents.htm
CONTACT:519 264 2420
ORGANIZER:Lower Thames Valley Conversation Authority
ATTACH;FMTTYPE="image/jpeg":http://storage.ning.com/topology/rest/1.0/
 file/get/1091510562?profile=original
ATTENDEE;ROLE=REQ-PARTICIPANT;PARTSTAT=ACCEPTED;RSVP=TRUE;CN="Mackenna
  Roth":https://ontag.farms.com/profile/MackennaRoth
END:VEVENT
END:VCALENDAR
