BEGIN:VCALENDAR
PRODID:NingEventWidget-v1
VERSION:2.0
METHOD:PUBLISH
BEGIN:VTIMEZONE
TZID:Pacific/Midway
X-LIC-LOCATION:Pacific/Midway
BEGIN:STANDARD
TZOFFSETFROM:-1100
TZOFFSETTO:-1100
TZNAME:SST
DTSTART:19700101T000000
END:STANDARD
END:VTIMEZONE
BEGIN:VEVENT
UID:3646443:Event:2672
DTSTAMP:20260423T073919Z
SUMMARY:Farm Credit Canada Forum
DESCRIPTION:Join us for this special event. FCC Forums are an opportun
 ity to learn, inspire big ideas and network with business owners and o
 perators just like you.\n\n\nClick Here to Visit the Farm Credit Canad
 a Site for More Information and to Register.\n\nPeter Mansbridge\nFor 
 millions of Canadians, Peter Mansbridge is more than anchor of The Nat
 ional on CBC-TV: he is the daily voice of a nation. In 2008, Peter was
  named an officer of the Order of Canada, one of the country's highest
  civilian honours. Drawing on what he's learned from interviews with w
 orld leaders and his experiences, he explores leadership: what it take
 s and how it can be achieved.\n\nChantal Petitclerc\nDespite losing th
 e use of her legs at the age of 13, Chantal defied her physical circum
 stances to set world records, capture gold medals and become a top fem
 ale athlete. Now retired from Paralympic competition, her strength and
  determination still inspire those who meet her.\n\nChris and Larry, t
 he Clodhopper Guys\nChris Emery and Larry Finnson took Chris' grandmot
 her's candy recipe, added their own determination and business savvy, 
 and developed Clodhoppers — a multimillion-dollar success story in t
 he competitive candy industry. The guys share their experience of star
 ting and succeeding in business.\n\n\n\n\n\n\nFor more information vis
 it https://ontag.farms.com/events/farm-credit-canada-forum
DTSTART;TZID=Pacific/Midway:20100309T000000
DTEND;TZID=Pacific/Midway:20100309T235900
CATEGORIES:forum
LOCATION:Woodbridge, Ontario
WEBSITE:http://www.fcc-fac.ca
URL:http://www.fcc-fac.ca
CONTACT:
ORGANIZER:Farm Credit Canada
ATTACH;FMTTYPE="image/jpeg":http://storage.ning.com/topology/rest/1.0/
 file/get/1091501716?profile=original
ATTENDEE;ROLE=REQ-PARTICIPANT;PARTSTAT=ACCEPTED;RSVP=TRUE;CN="OntAG Ad
 min":https://ontag.farms.com/profile/OntAGAdmin
END:VEVENT
END:VCALENDAR
