BEGIN:VCALENDAR
PRODID:NingEventWidget-v1
VERSION:2.0
METHOD:PUBLISH
BEGIN:VTIMEZONE
TZID:Pacific/Midway
X-LIC-LOCATION:Pacific/Midway
BEGIN:STANDARD
TZOFFSETFROM:-1100
TZOFFSETTO:-1100
TZNAME:SST
DTSTART:19700101T000000
END:STANDARD
END:VTIMEZONE
BEGIN:VEVENT
UID:3646443:Event:111315
DTSTAMP:20260419T044748Z
SUMMARY:Farm & Food Care Ontario  Annual General Meeting
DESCRIPTION:\r\n\r\n\r\n\r\nFarm & Food Care Ontario's annual general 
 meeting and speakers` conference will be held at the Grandway Events C
 entre in Elora on Thursday, April, 13, 2023.\r\n8:30 - 10:00 a.m. FFCO
  voting members annual meeting10:30 a.m. - 4:00 p.m. Conference2023 FF
 CO Board ElectionsElections for the FFCO Board of Directors will take 
 place at the Annual General Meeting which takes place immediately befo
 re the Annual Conference, from 8:30 to 10:00 AM, on April 13, 2023. Si
 x positions on the board will be up for election. Each voting member (
 Platinum, Gold or Silver members in good standing) is entitled to nomi
 nate one candidate to the board (or have one elected seat) at any give
 n time. Nominations include three components: a nomination form, a bio
 graphy and questionnaire, and a signed copy of the director responsibi
 lities and obligations document. All nominations must arrive at the Fa
 rm & Food Care Ontario office by email by Friday, March 24, at 5 p.m. 
 Send via email to info@farmfoodcare.orgBoard Nomination Form\r\n\r\n\r
 \n\r\n\r\n\r\n\r\n\n\nFor more information visit https://ontag.farms.c
 om/events/farm-food-care-ontario-annual-general-meeting
DTSTART;TZID=Pacific/Midway:20230413T083000
DTEND;TZID=Pacific/Midway:20230413T160000
CATEGORIES:annual, general, meeting
LOCATION:The GrandWay Event Centre
WEBSITE:https://www.farmfoodcareon.org/conference2023/
URL:https://www.farmfoodcareon.org/conference2023/
CONTACT:519-837-1326
ORGANIZER:Farm &amp; Food Care Ontario
ATTACH;FMTTYPE="image/jpeg":https://storage.ning.com/topology/rest/1.0
 /file/get/10967320301?profile=original
ATTENDEE;ROLE=REQ-PARTICIPANT;PARTSTAT=ACCEPTED;RSVP=TRUE;CN="OntAG Ad
 min":https://ontag.farms.com/profile/OntAGAdmin
END:VEVENT
END:VCALENDAR
