BEGIN:VCALENDAR
PRODID:NingEventWidget-v1
VERSION:2.0
METHOD:PUBLISH
BEGIN:VTIMEZONE
TZID:Pacific/Midway
X-LIC-LOCATION:Pacific/Midway
BEGIN:STANDARD
TZOFFSETFROM:-1100
TZOFFSETTO:-1100
TZNAME:SST
DTSTART:19700101T000000
END:STANDARD
END:VTIMEZONE
BEGIN:VEVENT
UID:3646443:Event:74699
DTSTAMP:20260422T160706Z
SUMMARY:Farm Implements on the Roadway RESCHEDULED
DESCRIPTION:Each year we hear of a number of traffic incidents involvi
 ng farm equipment.  This course, facilitated by Brian Welsh of MTO, a
 nd Constable James Hunter, will provide an overview of the key require
 ments for farm vehicles (tractors, combines, towed implements) driven 
 on the roadway. The Rules of the Road will also be discussed in detail
 .  There will be an extensive opportunity for questions.\n Registrat
 ion is required please see attached poster or www.greyagservices.ca\n\
 nPre-Register By: Fri. Feb. 15th, 2019\n \n\nFor more information vis
 it https://ontag.farms.com/events/farm-implements-on-the-roadway
DTSTART;TZID=Pacific/Midway:20190220T133000
DTEND;TZID=Pacific/Midway:20190220T163000
CATEGORIES:evening, course
LOCATION:Grey Ag Services, Lower level of Grey Gables, rear entrance
WEBSITE:http://www.greyagservices.ca
URL:http://www.greyagservices.ca
CONTACT:5199863756
ORGANIZER:Grey Ag Services
ATTACH;FMTTYPE="image/jpeg":https://storage.ning.com/topology/rest/1.0
 /file/get/829801097?profile=original
ATTENDEE;ROLE=REQ-PARTICIPANT;PARTSTAT=ACCEPTED;RSVP=TRUE;CN="Grey Bru
 ce Farmers' Week":https://ontag.farms.com/profile/GreyBruceFarmersWeek
END:VEVENT
END:VCALENDAR
