BEGIN:VCALENDAR
PRODID:NingEventWidget-v1
VERSION:2.0
METHOD:PUBLISH
BEGIN:VTIMEZONE
TZID:Pacific/Midway
X-LIC-LOCATION:Pacific/Midway
BEGIN:STANDARD
TZOFFSETFROM:-1100
TZOFFSETTO:-1100
TZNAME:SST
DTSTART:19700101T000000
END:STANDARD
END:VTIMEZONE
BEGIN:VEVENT
UID:3646443:Event:65185
DTSTAMP:20260419T154209Z
SUMMARY:Farm Management Update: Building the Rocket Ship
DESCRIPTION:Farm Management Update: \nBuilding the Rocket Ship \nOnt
 ario's Premier Farm Management Update\n\nJoin Ontario's top farm advis
 ors for a day of professional development on farm management. Learn th
 e latest in farm business management from industry leaders who advise 
 top business in the province and globally. Network with experienced fa
 rm advisors to improve your skills and knowledge in an industry that i
 s fueled by innovation - agriculture.\nFeaturing:\nLunch Keynote:  Ge
 rars Seijts, Ph.D., Ivey Business School: Leader Character & Successio
 n Management\nHeather Watson, Farm Management Canada, Master of Ceremo
 nies\nMichael Bossy, Bossy Nagy Group Chartered Professional Accountan
 ts:  The New Rocket Ship for Agriculture\nRob Hannam, Synthesis Agri-
 food Network , Business Strategy \nDoug Berchtold, DB Consultants Inc
 .: Putting Your Vision Into Action\nLisa Gilvesy, Jenkins & Gilvesy La
 w Firm: Common Pitfalls with Shareholder Agreements & How to Avoid The
 m\nJohn Lanthier, Market Smart Inc.:  Marketing Strategies\nDebi Sand
 erson, Desiderata Group Inc., Hiring, Motivating & Keeping the Right P
 eople\nSteve McQueen, Emerald BioAgriculture Corporation: Technology -
  The Good, Bad and The Ugly\nBernard Tobin, Farm & Food Care:  The Re
 al Dirt on Farming\nHubert Gubbels, CIBC Agriculture: Understanding Ho
 w Your Bank Calculates Risk\nBob Bell, Bio Agri Mix: Dairy Production 
 Strategic Planning\nHeather Watson, Farm Management Canada: Dollars & 
 Sense\n\n\nFor more information visit https://ontag.farms.com/events/f
 arm-management-update-building-the-rocket-ship
DTSTART;TZID=Pacific/Midway:20160602T083000
DTEND;TZID=Pacific/Midway:20160602T163000
CATEGORIES:professional, farm, management, seminar
LOCATION:Quality Inn & Suites
WEBSITE:http://www.choicehotels.ca/en/quality-hotel-&-suites-woodstock
 -hotel-cn066?promo=gglocalcaen
URL:http://www.choicehotels.ca/en/quality-hotel-&-suites-woodstock-hot
 el-cn066?promo=gglocalcaen
CONTACT:1-877-474-2871
ORGANIZER:Canadian Association of Farm Advisors (CAFA) Inc.
ATTACH;FMTTYPE="image/jpeg":http://storage.ning.com/topology/rest/1.0/
 file/get/1091543920?profile=original
ATTENDEE;ROLE=REQ-PARTICIPANT;PARTSTAT=ACCEPTED;RSVP=TRUE;CN="Liz Robe
 rtson":https://ontag.farms.com/profile/lizrobertson56
END:VEVENT
END:VCALENDAR
