BEGIN:VCALENDAR
PRODID:NingEventWidget-v1
VERSION:2.0
METHOD:PUBLISH
BEGIN:VTIMEZONE
TZID:Pacific/Midway
X-LIC-LOCATION:Pacific/Midway
BEGIN:STANDARD
TZOFFSETFROM:-1100
TZOFFSETTO:-1100
TZNAME:SST
DTSTART:19700101T000000
END:STANDARD
END:VTIMEZONE
BEGIN:VEVENT
UID:3646443:Event:60905
DTSTAMP:20260422T084527Z
SUMMARY:Farm Progress Show 2015, Decatur, Ill. Sept. 1, 2 & 3, 2015!
DESCRIPTION:Sept. 1, 2 & 3, 2015!\nSHOW HOURSTuesday & Wednesday - 8 a
 .m. to 5 p.m.Thursday - 8 a.m. to 4 p.m.\nAdmission: $15 per Adult; $
 8 Ages 13-174275 East Mound Road; Decatur, IL 62526\nFarm Progress Sho
 w, the nation's largest outdoor farm event, annually hosts nearly 600 
 exhibitors displaying new farm equipment, tractors, combines and farm 
 implements; seed and crop protection products; and many additional far
 m supplies and services. \nProducers from the U.S. and around the wor
 ld attend this key annual agricultural event. The show is an excellen
 t learning opportunity for producers and includes a wide variety of ma
 rketing, management and production seminars.\nCheck the website at the
 y add important links to help make your show experience the best it ca
 n be.\n\n\nFor more information visit https://ontag.farms.com/events/f
 arm-progress-show-2015-decatur-ill-sept-1-2-3-2015
DTSTART;TZID=Pacific/Midway:20150901T000000
DTEND;TZID=Pacific/Midway:20150903T235900
CATEGORIES:largest, outdoor, farm, show
LOCATION:Decatur, Illinois
WEBSITE:http://farmprogressshow.com/main.aspx
URL:http://farmprogressshow.com/main.aspx
CONTACT:
ORGANIZER:Farm Progress
ATTACH;FMTTYPE="image/jpeg":http://storage.ning.com/topology/rest/1.0/
 file/get/1091538747?profile=original
ATTENDEE;ROLE=REQ-PARTICIPANT;PARTSTAT=ACCEPTED;RSVP=TRUE;CN="OntAG Ad
 min":https://ontag.farms.com/profile/OntAGAdmin
END:VEVENT
END:VCALENDAR
