BEGIN:VCALENDAR
PRODID:NingEventWidget-v1
VERSION:2.0
METHOD:PUBLISH
BEGIN:VTIMEZONE
TZID:Pacific/Midway
X-LIC-LOCATION:Pacific/Midway
BEGIN:STANDARD
TZOFFSETFROM:-1100
TZOFFSETTO:-1100
TZNAME:SST
DTSTART:19700101T000000
END:STANDARD
END:VTIMEZONE
BEGIN:VEVENT
UID:3646443:Event:65000
DTSTAMP:20260422T040222Z
SUMMARY:Farm Succession Update: 3 Circle Model - In-Depth
DESCRIPTION:Professional development for farm advisors focused on farm
  succession.  Learn from some of Canada's top farm advisors about the
  family farm, farm management and farm ownership and how they all inte
 ract in farm succession and transition.\nLearn and network with other 
 farming professionals at this one day event.  Increase your skills an
 d knowledge to be a better farm advisor. \nAgenda\n\nFor more informa
 tion visit https://ontag.farms.com/events/farm-succession-update-3-cir
 cle-model-in-depth
DTSTART;TZID=Pacific/Midway:20160518T083000
DTEND;TZID=Pacific/Midway:20160518T170000
CATEGORIES:professional, development, conference
LOCATION:The Delta
WEBSITE:https://www.deltahotels.com/Hotels/Delta-Guelph-Hotel-and-Conf
 erence-Centre
URL:https://www.deltahotels.com/Hotels/Delta-Guelph-Hotel-and-Conferen
 ce-Centre
CONTACT:1-877-474-2871
ORGANIZER:Canadian Association of Farm Advisors (CAFA) Inc.
ATTACH;FMTTYPE="image/jpeg":http://storage.ning.com/topology/rest/1.0/
 file/get/1091542995?profile=original
ATTENDEE;ROLE=REQ-PARTICIPANT;PARTSTAT=ACCEPTED;RSVP=TRUE;CN="OntAG Ad
 min":https://ontag.farms.com/profile/OntAGAdmin
ATTENDEE;ROLE=REQ-PARTICIPANT;PARTSTAT=ACCEPTED;RSVP=TRUE;CN="Liz Robe
 rtson":https://ontag.farms.com/profile/lizrobertson56
END:VEVENT
END:VCALENDAR
