BEGIN:VCALENDAR
PRODID:NingEventWidget-v1
VERSION:2.0
METHOD:PUBLISH
BEGIN:VTIMEZONE
TZID:Pacific/Midway
X-LIC-LOCATION:Pacific/Midway
BEGIN:STANDARD
TZOFFSETFROM:-1100
TZOFFSETTO:-1100
TZNAME:SST
DTSTART:19700101T000000
END:STANDARD
END:VTIMEZONE
BEGIN:VEVENT
UID:3646443:Event:73883
DTSTAMP:20260424T100915Z
SUMMARY:Farm Tax Update
DESCRIPTION:Registration Deadline: October 15th, 2018 \r\n\r\nAll regi
 strations will receive a .pdf file with presentations and papers in ad
 vance of the meeting via email.\r\nGST Registration: 86481 2532 RT0001
 \r\n*$50 processing fee on all cancellations.\r\nReceipts will be emai
 led to you.\r\n\r\nNo show, no refund.\r\n\r\n\r\n \r\n\r\nEnhance th
 e knowledge of members through education, networking, and personal dev
 elopment so that members can deliver on their own customer value propo
 sition. Expose members to a network of other professionals in various 
 disciplines all with the aim of enhancing the client experience.\n\nFo
 r more information visit https://ontag.farms.com/events/farm-tax-updat
 e
DTSTART;TZID=Pacific/Midway:20181018T000000
DTEND;TZID=Pacific/Midway:20181018T235900
CATEGORIES:farm, tax, update, registration
LOCATION:St. George Banquet Hall
WEBSITE:https://www.cafanet.ca/farm-tax-update-waterloo-registration-2
 018/
URL:https://www.cafanet.ca/farm-tax-update-waterloo-registration-2018/
CONTACT:Direct: 204-348-3578, Toll Free: 1-877-474-2871
ORGANIZER:canadian association of farm advisors
ATTACH;FMTTYPE="image/jpeg":http://storage.ning.com/topology/rest/1.0/
 file/get/1091550457?profile=original
ATTENDEE;ROLE=REQ-PARTICIPANT;PARTSTAT=ACCEPTED;RSVP=TRUE;CN="OntAG Ad
 min":https://ontag.farms.com/profile/OntAGAdmin
END:VEVENT
END:VCALENDAR
