BEGIN:VCALENDAR
PRODID:NingEventWidget-v1
VERSION:2.0
METHOD:PUBLISH
BEGIN:VTIMEZONE
TZID:Pacific/Midway
X-LIC-LOCATION:Pacific/Midway
BEGIN:STANDARD
TZOFFSETFROM:-1100
TZOFFSETTO:-1100
TZNAME:SST
DTSTART:19700101T000000
END:STANDARD
END:VTIMEZONE
BEGIN:VEVENT
UID:3646443:Event:67872
DTSTAMP:20260421T095918Z
SUMMARY:Farm Technology - Tools for Your Mobile Office
DESCRIPTION:Are you ready to transition from collecting notes on a pap
 er pad, to collecting it on a device? Are you ready to get more produc
 tive, efficient and profitable? Ashleigh Weeden, IT Grey County, will 
 guide agribusiness reps, and an OMAFRA rep, through an interactive and
  fun discussion on all of these items, and more.Â  Plus, hear from far
 mers about their tech experiences. Please bring your Smartphones/table
 ts to make the most of the demonstrations. Sponsored by Huron Tractor.
 \nWhen? Â Â Â Â  Wed. Mar. 8, 2017, 10:00 am to 4:00 pm\nCost? Â Â Â Â
  Â Â  $20.00Â  Lunch provided\nPre-Register By: Wed. Mar. 1, 2017\nÂ \
 n\nFor more information visit https://ontag.farms.com/events/farm-tech
 nology-tools-for-your-mobile-office
DTSTART;TZID=Pacific/Midway:20170308T100000
DTEND;TZID=Pacific/Midway:20170308T160000
CATEGORIES:course
LOCATION:Grey Ag Services Boardroom
WEBSITE:http://www.greyagservices.ca/index.php/grey-agricultural-servi
 ces/winter-course-registration
URL:http://www.greyagservices.ca/index.php/grey-agricultural-services/
 winter-course-registration
CONTACT:519 986-3756
ORGANIZER;CN="Grey Bruce Farmers' Week":https://ontag.farms.com/profil
 e/GreyBruceFarmersWeek
ATTACH;FMTTYPE="image/jpeg":http://storage.ning.com/topology/rest/1.0/
 file/get/1091547876?profile=original
ATTENDEE;ROLE=REQ-PARTICIPANT;PARTSTAT=ACCEPTED;RSVP=TRUE;CN="Grey Bru
 ce Farmers' Week":https://ontag.farms.com/profile/GreyBruceFarmersWeek
END:VEVENT
END:VCALENDAR
