BEGIN:VCALENDAR
PRODID:NingEventWidget-v1
VERSION:2.0
METHOD:PUBLISH
BEGIN:VTIMEZONE
TZID:Pacific/Midway
X-LIC-LOCATION:Pacific/Midway
BEGIN:STANDARD
TZOFFSETFROM:-1100
TZOFFSETTO:-1100
TZNAME:SST
DTSTART:19700101T000000
END:STANDARD
END:VTIMEZONE
BEGIN:VEVENT
UID:3646443:Event:74262
DTSTAMP:20260420T182043Z
SUMMARY:Farm Transition Plan Workshop
DESCRIPTION:It’s never too soon to start the conversation. Join OFA,
  The Co-operators, Farm Life and Scotiabank as we present a free, half
 -day workshop to help you get started on a successful transition plan.
 \r\nWorkshops are open to all Ontario farmers and include:\r\n\r\nTran
 sition planning 101\r\nPanel discussion and case studies\r\nHow to set
  up your own transition team\r\n\r\nWorkshops run from 8:30 a.m. to 12
 :00 p.m. and include a light lunch. Register today.Click here to regis
 ter for the farm transition plan workshop.Google Map\n\nFor more infor
 mation visit https://ontag.farms.com/events/farm-transition-plan-works
 hop
DTSTART;TZID=Pacific/Midway:20181128T083000
DTEND;TZID=Pacific/Midway:20181128T120000
CATEGORIES:workshop
LOCATION:Cookstown Curling Club
WEBSITE:https://www.eventbrite.ca/e/farm-transition-plan-workshop-tick
 ets-48710114263?utm-medium=discovery&amp;utm-campaign=social&amp;utm-c
 ontent=attendeeshare&amp;aff=escb&amp;utm-source=cp&amp;utm-term=listi
 ng
URL:https://www.eventbrite.ca/e/farm-transition-plan-workshop-tickets-
 48710114263?utm-medium=discovery&amp;utm-campaign=social&amp;utm-conte
 nt=attendeeshare&amp;aff=escb&amp;utm-source=cp&amp;utm-term=listing
CONTACT:
ORGANIZER:Ontario Federation of Agriculture
ATTACH;FMTTYPE="image/jpeg":
ATTENDEE;ROLE=REQ-PARTICIPANT;PARTSTAT=ACCEPTED;RSVP=TRUE;CN="OntAG Ad
 min":https://ontag.farms.com/profile/OntAGAdmin
END:VEVENT
END:VCALENDAR
