BEGIN:VCALENDAR
PRODID:NingEventWidget-v1
VERSION:2.0
METHOD:PUBLISH
BEGIN:VTIMEZONE
TZID:Pacific/Midway
X-LIC-LOCATION:Pacific/Midway
BEGIN:STANDARD
TZOFFSETFROM:-1100
TZOFFSETTO:-1100
TZNAME:SST
DTSTART:19700101T000000
END:STANDARD
END:VTIMEZONE
BEGIN:VEVENT
UID:3646443:Event:78072
DTSTAMP:20260421T033227Z
SUMMARY:Farm Wetlands & Phosphorus Workshop
DESCRIPTION:Tuesday January 14, 1-4 pm; SCRCA office, 205 Millpond Cre
 scent, Strathroy\r\nAn afternoon workshop on farm wetlands co-hosted w
 ith Ducks Unlimited Canada\r\nPresentations by Ducks Unlimited Canada,
  Rural Lambton Stewardship Network/Ontario NativeScape, and ALUS Lambt
 on\r\nDUC will share preliminary results from a wetland water quality 
 monitoring research project completed on 8 on-farm wetland conservatio
 n projects in 2019, as well as information on Ducks Unlimited Canadaâ€
 ™s conservation program and how theyâ€™re working closely with landown
 ers to undertake wetland projects on their property.\r\nLindsay Buchan
 an will share about the ALUS program in Lambton County (and beyond).\r
 \nCEU credits available for CCAs who attend.\r\nThe event is free, but
  we request you RSVP so we have enough coffee & refreshments. Please R
 SVP to Anastassia Lagounova @ alagounova@scrca.on.ca or 519-245-3710.\
 n\nFor more information visit https://ontag.farms.com/events/farm-wetl
 ands-phosphorus-workshop
DTSTART;TZID=Pacific/Midway:20200114T130000
DTEND;TZID=Pacific/Midway:20200114T160000
CATEGORIES:workshop
LOCATION:SCRCA office
WEBSITE:
URL:
CONTACT:519-245-3710
ORGANIZER:Ducks Unlimited Canada
ATTACH;FMTTYPE="image/jpeg":
ATTENDEE;ROLE=REQ-PARTICIPANT;PARTSTAT=ACCEPTED;RSVP=TRUE;CN="OntAG Ad
 min":https://ontag.farms.com/profile/OntAGAdmin
END:VEVENT
END:VCALENDAR
