BEGIN:VCALENDAR
PRODID:NingEventWidget-v1
VERSION:2.0
METHOD:PUBLISH
BEGIN:VTIMEZONE
TZID:Pacific/Midway
X-LIC-LOCATION:Pacific/Midway
BEGIN:STANDARD
TZOFFSETFROM:-1100
TZOFFSETTO:-1100
TZNAME:SST
DTSTART:19700101T000000
END:STANDARD
END:VTIMEZONE
BEGIN:VEVENT
UID:3646443:Event:5467
DTSTAMP:20260422T062114Z
SUMMARY:Farm$mart Summer 4-H Expo Youth Program
DESCRIPTION:At the University of Guelph Elora Research Station, 6182 2
 nd Line, Elora (south of Elora, one block west of County Road 7). The 
 daylong program features barn tours, hands-on activities and in-field 
 demonstrations of on-farm situations. This is an excellent opportunity
  for a club meeting, a makeup session or a club/county field trip. Non
 -4H members welcome.\n\nRegistration fee: $15, includes lunch. Walk-in
 s welcome, lunch not guaranteed. Sign in begins at 9 am. First session
  begins at 9:30 am, last session concludes at 3:30 pm. To register: 1-
 877-424-1300.\n\nFor information: www.twitter.com/soilandcrop or www.u
 oguelph.c/farmsmart\n\nFor more information visit https://ontag.farms.
 com/events/farmmart-summer-4h-expo-youth
DTSTART;TZID=Pacific/Midway:20100716T090000
DTEND;TZID=Pacific/Midway:20100716T153000
CATEGORIES:summer, 4-h, expo, youth, program
LOCATION:south of Elora
WEBSITE:
URL:
CONTACT:
ORGANIZER:
ATTACH;FMTTYPE="image/jpeg":http://storage.ning.com/topology/rest/1.0/
 file/get/1091506942?profile=original
ATTENDEE;ROLE=REQ-PARTICIPANT;PARTSTAT=ACCEPTED;RSVP=TRUE;CN="OntAG Ad
 min":https://ontag.farms.com/profile/OntAGAdmin
END:VEVENT
END:VCALENDAR
