BEGIN:VCALENDAR
PRODID:NingEventWidget-v1
VERSION:2.0
METHOD:PUBLISH
BEGIN:VTIMEZONE
TZID:Pacific/Midway
X-LIC-LOCATION:Pacific/Midway
BEGIN:STANDARD
TZOFFSETFROM:-1100
TZOFFSETTO:-1100
TZNAME:SST
DTSTART:19700101T000000
END:STANDARD
END:VTIMEZONE
BEGIN:VEVENT
UID:3646443:Event:5464
DTSTAMP:20260421T013340Z
SUMMARY:Farm$mart Summer Expo
DESCRIPTION:An informative day of crop diagnostics and demonstrations 
 at the University of Guelph Elora Research Station, 6182 2nd Line, Elo
 ra (south of Elora, one block west of County Road 7). $50 for Soil and
  Crop members, $65 for non-members (includes lunch and a one-year memb
 ership in your local soil and crop improvement association). Walk-in r
 egistrations welcome, although lunch not guaranteed.\n\nSign in begins
  at 8:45 am. First session begins at 9:30 am, last session concludes a
 t 4 pm. CCA Continuing Education Credits applied for. To register: 1-8
 77-424-1300.\n\nFor information: www.twitter.com/soilandcrop and www.u
 oguelph.ca/farmsmart\n\nFor more information visit https://ontag.farms
 .com/events/farmmart-summer-expo
DTSTART;TZID=Pacific/Midway:20100715T084500
DTEND;TZID=Pacific/Midway:20100715T160000
CATEGORIES:summer, expo
LOCATION:south of Elora
WEBSITE:
URL:
CONTACT:
ORGANIZER:
ATTACH;FMTTYPE="image/jpeg":http://storage.ning.com/topology/rest/1.0/
 file/get/1091505871?profile=original
ATTENDEE;ROLE=REQ-PARTICIPANT;PARTSTAT=ACCEPTED;RSVP=TRUE;CN="OntAG Ad
 min":https://ontag.farms.com/profile/OntAGAdmin
END:VEVENT
END:VCALENDAR
