BEGIN:VCALENDAR
PRODID:NingEventWidget-v1
VERSION:2.0
METHOD:PUBLISH
BEGIN:VTIMEZONE
TZID:Pacific/Midway
X-LIC-LOCATION:Pacific/Midway
BEGIN:STANDARD
TZOFFSETFROM:-1100
TZOFFSETTO:-1100
TZNAME:SST
DTSTART:19700101T000000
END:STANDARD
END:VTIMEZONE
BEGIN:VEVENT
UID:3646443:Event:54175
DTSTAMP:20260421T231036Z
SUMMARY:Farms.com Risk Management & Penta Tillage Post U.S. Crop Tour 
 Town Hall
DESCRIPTION:(Plant Tour and Market Outlook) on the evening of July 21,
  2014.\n\n\nMoe's 2014 U.S. Corn Belt Crop Tour Summary / 2014/15 Grai
 n Market Outlook\nOther informative speakers such as Stephen Denys, Vi
 ce-President, Sales & Marketing at Pride Seeds\nPenta Tillage plant to
 urs\n10+ Trade show booths\nBBQ supper\n200+ producers\nDoor prizes\nS
 pecial 1 day Basis offer to those farmers that attend\n\n\n\n\n\nDate:
 \nJuly 21, 2014\n\nTime:\n4:30pm - 9:00pm\n\nWhere:\nPenta Tillage Inc
 . 73 Main Street, Box 760\nGlencoe, Ontario, Canada\nN0L 1M0\n\n\nPric
 e:\n$50 at the door or save 40% ($20.00) by pre-registering.\n\nFor mo
 re information please feel free to contact Joshua Mires at 1-877-438
 -5729 ex. 5028  |  Joshua.Mires@Farms.com\n\n \n\n\n\n\n\n \n\nFor
  more information visit https://ontag.farms.com/events/farms-com-risk-
 management-penta-tillage-post-u-s-crop-tour-town-h
DTSTART;TZID=Pacific/Midway:20140721T163000
DTEND;TZID=Pacific/Midway:20140721T210000
CATEGORIES:town, hall
LOCATION:Penta Tillage Inc.
WEBSITE:http://riskmanagement.farms.com/TownHall/
URL:http://riskmanagement.farms.com/TownHall/
CONTACT:1-877-438-5729 ex. 5028  |  Joshua.Mires@Farms.com
ORGANIZER:Farms.com Risk Management & Penta Tillage
ATTACH;FMTTYPE="image/jpeg":http://storage.ning.com/topology/rest/1.0/
 file/get/1091525177?profile=original
ATTENDEE;ROLE=REQ-PARTICIPANT;PARTSTAT=ACCEPTED;RSVP=TRUE;CN="OntAG Ad
 min":https://ontag.farms.com/profile/OntAGAdmin
END:VEVENT
END:VCALENDAR
