BEGIN:VCALENDAR
PRODID:NingEventWidget-v1
VERSION:2.0
METHOD:PUBLISH
BEGIN:VTIMEZONE
TZID:Pacific/Midway
X-LIC-LOCATION:Pacific/Midway
BEGIN:STANDARD
TZOFFSETFROM:-1100
TZOFFSETTO:-1100
TZNAME:SST
DTSTART:19700101T000000
END:STANDARD
END:VTIMEZONE
BEGIN:VEVENT
UID:3646443:Event:67791
DTSTAMP:20260422T010141Z
SUMMARY:FarmSmart Conference and Beef Symposium
DESCRIPTION:FarmSmart 2017\nFeature Speakers:Public Trust in Food and 
 Social Licence – What does it mean for your farm?Crystal MacKay, Far
 m and Food Care Canada\n************\nBeef Industry of the FutureDr. T
 im McAllister, Principal Research Scientist, Ruminant Nutrition & Micr
 obiology, AAFC\n************ Making Quality Beef from Holstein Cross C
 attleBrad Van Ravenswaay ************ Adding Value from Pasture to Pla
 te – A career in search of valueKevin Unger, Lincoln County Feed Yar
 ds, Nebraska ************ Pain Management on Beef Farms – Practicall
 y painlessDr. Phil Meadows, Mitchell Vet ServicesRegistration:  8:30 
 am, register by going to registration sitehttps://farmsmartconference.
 com/registration  or call 1-877-424-1300.\n\nFor more information vi
 sit https://ontag.farms.com/events/farmsmart-conference-and-beef-sympo
 sium-1
DTSTART;TZID=Pacific/Midway:20170121T083000
DTEND;TZID=Pacific/Midway:20170121T163000
CATEGORIES:beef, conferance
LOCATION:Rozanski Hall,
WEBSITE:https://farmsmartconference.com/registration
URL:https://farmsmartconference.com/registration
CONTACT:1-877-424-1300
ORGANIZER;CN="OntAG Admin":https://ontag.farms.com/profile/OntAGAdmin
ATTACH;FMTTYPE="image/jpeg":http://storage.ning.com/topology/rest/1.0/
 file/get/1091547957?profile=original
ATTENDEE;ROLE=REQ-PARTICIPANT;PARTSTAT=ACCEPTED;RSVP=TRUE;CN="OntAG Ad
 min":https://ontag.farms.com/profile/OntAGAdmin
END:VEVENT
END:VCALENDAR
