BEGIN:VCALENDAR
PRODID:NingEventWidget-v1
VERSION:2.0
METHOD:PUBLISH
BEGIN:VTIMEZONE
TZID:Pacific/Midway
X-LIC-LOCATION:Pacific/Midway
BEGIN:STANDARD
TZOFFSETFROM:-1100
TZOFFSETTO:-1100
TZNAME:SST
DTSTART:19700101T000000
END:STANDARD
END:VTIMEZONE
BEGIN:VEVENT
UID:3646443:Event:74070
DTSTAMP:20260421T044958Z
SUMMARY:FarmSmart Expo
DESCRIPTION:FarmSmart Expo will features Diagnosing Soil Problems with
  Adam Hayes, OMAFRA & Anne Verhallen, OMAFRA, Innovative ideas for gro
 wing Dry Beans with Peter Pauls, U of G & Meghan Moran, Weed Control S
 trategies With Mike Cowbrough, OMAFRA and Clarence Swanton, etc.\n\nFo
 r more information visit https://ontag.farms.com/events/farmsmart-expo
 -4
DTSTART;TZID=Pacific/Midway:20190119T090000
DTEND;TZID=Pacific/Midway:20190119T180000
CATEGORIES:trade, show
LOCATION:University of Guelph
WEBSITE:https://10times.com/farmsmart
URL:https://10times.com/farmsmart
CONTACT:
ORGANIZER;CN="OntAG Admin":https://ontag.farms.com/profile/OntAGAdmin
ATTACH;FMTTYPE="image/jpeg":
ATTENDEE;ROLE=REQ-PARTICIPANT;PARTSTAT=ACCEPTED;RSVP=TRUE;CN="OntAG Ad
 min":https://ontag.farms.com/profile/OntAGAdmin
END:VEVENT
END:VCALENDAR
