BEGIN:VCALENDAR
PRODID:NingEventWidget-v1
VERSION:2.0
METHOD:PUBLISH
BEGIN:VTIMEZONE
TZID:Pacific/Midway
X-LIC-LOCATION:Pacific/Midway
BEGIN:STANDARD
TZOFFSETFROM:-1100
TZOFFSETTO:-1100
TZNAME:SST
DTSTART:19700101T000000
END:STANDARD
END:VTIMEZONE
BEGIN:VEVENT
UID:3646443:Event:15984
DTSTAMP:20260421T180104Z
SUMMARY:FarmSmart Expo 4H/Youth Day
DESCRIPTION:An interactive, hands-on, in-field crop diagnostics day de
 signed for 4H and Ontario farm youth.\n\nFor more information visit ht
 tps://ontag.farms.com/events/farmsmart-expo-4hyouth-day
DTSTART;TZID=Pacific/Midway:20110715T000000
DTEND;TZID=Pacific/Midway:20110715T235900
CATEGORIES:education, expo
LOCATION:Elora Research Station
WEBSITE:http://www.ghscia.com
URL:http://www.ghscia.com
CONTACT:905-873-6811
ORGANIZER;CN="Golden Horseshoe SCIA":https://ontag.farms.com/profile/G
 oldenHorseshoeSCIA
ATTACH;FMTTYPE="image/jpeg":
ATTENDEE;ROLE=REQ-PARTICIPANT;PARTSTAT=ACCEPTED;RSVP=TRUE;CN="Golden H
 orseshoe SCIA":https://ontag.farms.com/profile/GoldenHorseshoeSCIA
END:VEVENT
END:VCALENDAR
