BEGIN:VCALENDAR
PRODID:NingEventWidget-v1
VERSION:2.0
METHOD:PUBLISH
BEGIN:VTIMEZONE
TZID:Pacific/Midway
X-LIC-LOCATION:Pacific/Midway
BEGIN:STANDARD
TZOFFSETFROM:-1100
TZOFFSETTO:-1100
TZNAME:SST
DTSTART:19700101T000000
END:STANDARD
END:VTIMEZONE
BEGIN:VEVENT
UID:3646443:Event:31593
DTSTAMP:20260422T200702Z
SUMMARY:FarmSmart Expo
DESCRIPTION:FarmSmart Expo provides progressive farm operators and agr
 i-business people with leading edge, hands-on diagnostic stations that
  identify current issues in crop production to help them develop and a
 dvance their farm business operations.\nSign in starts at 8:45 am. Fir
 st session starts at 9:30 am.\nRegistration fee (includes lunch): OSCI
 A Members - $50, non-OSCIA members - $70 (includes one year OSCIA memb
 ership). Walk in registrations welcome, lunch not guaranteed.\nPre-reg
 istration encouraged. Pre-registration deadline: Tuesday, July 10, 201
 2.\nTo register: 1-877-424-1300.\nCertified Crop Advisor (CCA) Continu
 ing Education Credits have been applied for.\nwww.uoguelph.ca/farmsmar
 t/expo.\n\n\n\n\n1\nAgronomy Enlightenments from 20 years of Long Term
  Crop Rotation Experiments Bill Deen and Dave Hooker, UG\n\n \n\n\n2\
 nFertilizer Frenzy Horst Bohner, Greg Stewart, Bonnie Ball and Brian H
 all, OMAFRA\n\n \n\n\n3\nRecognizing Crop Injury Symptoms in Corn and
  Soybeans and Managing Glyphosate Resistant Weeds. Mike Cowbrough, OMA
 FRA\n\n \n\n\n4\nKeeping Up with New Spray Technology Helmut Spieser,
  OMAFRA and Dr. Tom Wolf, AAFC Saskatoon\n\n \n\n\n5\nPolishing Your
  Aphid Scouting Skills Tom Cowan, OMAFRA\n\n \n\n\n6\nWheat Fertility
  Options with K and N Peter Johnson, OMAFRA\n\n \n\n\n\n\n\nFarmSmart
  Expo is brought to you by the Golden Horseshoe and Heartland Regional
  Soil and Crop Improvement Associations, in partnership with the Ontar
 io Ministry of Agriculture, Food and Rural Affairs (OMAFRA), the Unive
 rsity of Guelph and various agri-business sponsors, including Platinum
  sponsors BASF Canada Inc., Bayer CropScience, Dekalb, Farm Credit Can
 ada, the Grain Farmers of Ontario, Pioneer Hi-Bred Limited and Syngent
 a.\n\nFor more information visit https://ontag.farms.com/events/farmsm
 art-expo
DTSTART;TZID=Pacific/Midway:20120712T000000
DTEND;TZID=Pacific/Midway:20120712T235900
CATEGORIES:education
LOCATION:University of Guelph Elora Research Station
WEBSITE:http://www.uoguelph.ca/farmsmart/expo
URL:http://www.uoguelph.ca/farmsmart/expo
CONTACT:
ORGANIZER:FarmSmart
ATTACH;FMTTYPE="image/jpeg":
ATTENDEE;ROLE=REQ-PARTICIPANT;PARTSTAT=ACCEPTED;RSVP=TRUE;CN="Golden H
 orseshoe SCIA":https://ontag.farms.com/profile/GoldenHorseshoeSCIA
END:VEVENT
END:VCALENDAR
