BEGIN:VCALENDAR
PRODID:NingEventWidget-v1
VERSION:2.0
METHOD:PUBLISH
BEGIN:VTIMEZONE
TZID:Pacific/Midway
X-LIC-LOCATION:Pacific/Midway
BEGIN:STANDARD
TZOFFSETFROM:-1100
TZOFFSETTO:-1100
TZNAME:SST
DTSTART:19700101T000000
END:STANDARD
END:VTIMEZONE
BEGIN:VEVENT
UID:3646443:Event:3247
DTSTAMP:20260422T200709Z
SUMMARY:FCC - Farm Financial Management - Statements and ratios
DESCRIPTION:Location: London, Ontario\n\nDate: January 27, 2010\n\nTim
 e: 9:00 AM - 5:00 PM\n\nEvent language: English Presenter: Mario Dumas
 \n\nDescription: Learn new ways of doing business that ad to your bott
 om line. Some of the key topics to be covered include:\n- understandin
 g statements and ratios so you can make better business decisions\n- e
 ducating your family and business partners to assist in managing finan
 ces\n- using your numbers to increase profits and maximize performance
 \n\nCost: complimentary\n\nFor more information visit https://ontag.fa
 rms.com/events/fcc-farm-financial-management
DTSTART;TZID=Pacific/Midway:20100127T090000
DTEND;TZID=Pacific/Midway:20100127T170000
CATEGORIES:fcc, learning, event
LOCATION:Holiday Inn
WEBSITE:http://www.fcc-fac.ca/en/LearningCentre/event_list_e.asp?blnSe
 arch=true&mnuEventType=0&mnuEventName=Any&mnuGeographicRegion=NA&start
 Date=&endDate=&search=Search
URL:http://www.fcc-fac.ca/en/LearningCentre/event_list_e.asp?blnSearch
 =true&mnuEventType=0&mnuEventName=Any&mnuGeographicRegion=NA&startDate
 =&endDate=&search=Search
CONTACT:
ORGANIZER:Farm Credit Canada (FCC)
ATTACH;FMTTYPE="image/jpeg":http://storage.ning.com/topology/rest/1.0/
 file/get/1091501643?profile=original
ATTENDEE;ROLE=REQ-PARTICIPANT;PARTSTAT=ACCEPTED;RSVP=TRUE;CN=AgOntario
 :https://ontag.farms.com/profile/AgOntario
END:VEVENT
END:VCALENDAR
