BEGIN:VCALENDAR
PRODID:NingEventWidget-v1
VERSION:2.0
METHOD:PUBLISH
BEGIN:VTIMEZONE
TZID:Pacific/Midway
X-LIC-LOCATION:Pacific/Midway
BEGIN:STANDARD
TZOFFSETFROM:-1100
TZOFFSETTO:-1100
TZNAME:SST
DTSTART:19700101T000000
END:STANDARD
END:VTIMEZONE
BEGIN:VEVENT
UID:3646443:Event:71462
DTSTAMP:20260421T135748Z
SUMMARY:FCC Forum - Kingston
DESCRIPTION:Learn, re-energize, be inspired and network with business 
 owners and operators just like you. We handpick Canada’s best speake
 rs to share their stories of success and offer insights to help you gr
 ow your business.\r\nRegister family, friends and business partners fo
 r this free event. Everyone involved in agriculture, agribusiness and 
 agri-food is welcome.\r\nDoors open at 10:00 AM. Lunch is included.\r\
 n\n\nFor more information visit https://ontag.farms.com/events/fcc-for
 um-kingston-1
DTSTART;TZID=Pacific/Midway:20171125T103000
DTEND;TZID=Pacific/Midway:20171125T150000
CATEGORIES:forum
LOCATION:Kingston Gospel Temple
WEBSITE:https://www.eventbrite.ca/e/fcc-forum-kingston-tickets-3668936
 0866
URL:https://www.eventbrite.ca/e/fcc-forum-kingston-tickets-36689360866
CONTACT:
ORGANIZER:Farm Credit Canada
ATTACH;FMTTYPE="image/jpeg":
ATTENDEE;ROLE=REQ-PARTICIPANT;PARTSTAT=ACCEPTED;RSVP=TRUE;CN="OntAG Ad
 min":https://ontag.farms.com/profile/OntAGAdmin
END:VEVENT
END:VCALENDAR
