BEGIN:VCALENDAR
PRODID:NingEventWidget-v1
VERSION:2.0
METHOD:PUBLISH
BEGIN:VTIMEZONE
TZID:Pacific/Midway
X-LIC-LOCATION:Pacific/Midway
BEGIN:STANDARD
TZOFFSETFROM:-1100
TZOFFSETTO:-1100
TZNAME:SST
DTSTART:19700101T000000
END:STANDARD
END:VTIMEZONE
BEGIN:VEVENT
UID:3646443:Event:63575
DTSTAMP:20260421T092106Z
SUMMARY:FCC Forum - Kingston
DESCRIPTION:FCC Forums\nGet inspired\n\nFCC Forums are an opportunity 
 to learn, re-energize and network with agriculture business owners and
  operators just like you. Celebrities and industry experts to share th
 eir stories and offer insights to help manage your business. Register 
 your family, friends and business partners - everyone is welcome.\n\n\
 n\n\n  Learn more about our English and French FCC Forums feature
 d speakers.\n\n\nRegister for FCC Forums 2015-16\nDon’t miss out on 
 one of Farm Credit Canada's biggest events of the year.  Seats fill u
 p quickly so get your spot today!\nDate: Nov 28, 2015 Time:  10:30 
 AM to 3:00 PM\nLocation:  Kingston (Ontario)\n\nRegister\n\n\n\n\n\n
 For more information visit https://ontag.farms.com/events/fcc-forum-ki
 ngston
DTSTART;TZID=Pacific/Midway:20151128T103000
DTEND;TZID=Pacific/Midway:20151128T150000
CATEGORIES:"farmer appreciation"
LOCATION:Kingston Gospel Temple
WEBSITE:https://www.fcc-fac.ca/en/events/fcc-forums.html
URL:https://www.fcc-fac.ca/en/events/fcc-forums.html
CONTACT:
ORGANIZER:Farm Credit Canada (FCC)
ATTACH;FMTTYPE="image/jpeg":http://storage.ning.com/topology/rest/1.0/
 file/get/1091542449?profile=original
ATTENDEE;ROLE=REQ-PARTICIPANT;PARTSTAT=ACCEPTED;RSVP=TRUE;CN="OntAG Ad
 min":https://ontag.farms.com/profile/OntAGAdmin
END:VEVENT
END:VCALENDAR
