BEGIN:VCALENDAR
PRODID:NingEventWidget-v1
VERSION:2.0
METHOD:PUBLISH
BEGIN:VTIMEZONE
TZID:Pacific/Midway
X-LIC-LOCATION:Pacific/Midway
BEGIN:STANDARD
TZOFFSETFROM:-1100
TZOFFSETTO:-1100
TZNAME:SST
DTSTART:19700101T000000
END:STANDARD
END:VTIMEZONE
BEGIN:VEVENT
UID:3646443:Event:63474
DTSTAMP:20260421T230617Z
SUMMARY:FCC Forum - London
DESCRIPTION:FCC Forums\nGet inspired\n\nFCC Forums are an opportunity 
 to learn, re-energize and network with agriculture business owners and
  operators just like you. Celebrities and industry experts to share th
 eir stories and offer insights to help manage your business. Register 
 your family, friends and business partners - everyone is welcome.\n\n\
 n\n\n  Learn more about our English and French FCC Forums feature
 d speakers.\n\n\nRegister for FCC Forums 2015-16\nDon’t miss out on 
 one of Farm Credit Canada's biggest events of the year.  Seats fill u
 p quickly so get your spot today!\nDate: Dec 10, 2015 Time:  10:30 
 AM to 3:00 PM\nLocation:  London (Ontario)\n\nRegister\n\n\n\n\n\nFo
 r more information visit https://ontag.farms.com/events/fcc-forum-lond
 on
DTSTART;TZID=Pacific/Midway:20151210T103000
DTEND;TZID=Pacific/Midway:20151210T150000
CATEGORIES:"farmer appreciation"
LOCATION:Western Fair District Agriplex
WEBSITE:https://www.fcc-fac.ca/en/events/fcc-forums.html
URL:https://www.fcc-fac.ca/en/events/fcc-forums.html
CONTACT:
ORGANIZER:Farm Credit Canada (FCC)
ATTACH;FMTTYPE="image/jpeg":http://storage.ning.com/topology/rest/1.0/
 file/get/1091542449?profile=original
ATTENDEE;ROLE=REQ-PARTICIPANT;PARTSTAT=ACCEPTED;RSVP=TRUE;CN="OntAG Ad
 min":https://ontag.farms.com/profile/OntAGAdmin
END:VEVENT
END:VCALENDAR
