BEGIN:VCALENDAR
PRODID:NingEventWidget-v1
VERSION:2.0
METHOD:PUBLISH
BEGIN:VTIMEZONE
TZID:Pacific/Midway
X-LIC-LOCATION:Pacific/Midway
BEGIN:STANDARD
TZOFFSETFROM:-1100
TZOFFSETTO:-1100
TZNAME:SST
DTSTART:19700101T000000
END:STANDARD
END:VTIMEZONE
BEGIN:VEVENT
UID:3646443:Event:3244
DTSTAMP:20260420T030836Z
SUMMARY:FCC - Transferring the farm
DESCRIPTION:Location: Listowel, Ontario\n\nDate: January 27, 2010\n\nT
 ime: 9:00 AM - 5:00 PM\n\nEvent language: English Presenter: Len Davie
 s\n\nDescription: Whether you're preparing to transfer your operation 
 to family members or business partners, you can make the transition sm
 ooth for everyone. Some of the key topics to be covered include:\n- di
 scovering why succession plan are so important and how they can reduce
  stress\n- learning what you need to ask lawyers and accountants\n- ga
 ining valuable insight into how to communicate with family members\n\n
 Cost: complimentary\n\nFor more information visit https://ontag.farms.
 com/events/fcc-transferring-the-farm
DTSTART;TZID=Pacific/Midway:20100127T090000
DTEND;TZID=Pacific/Midway:20100127T170000
CATEGORIES:fcc, learning, event
LOCATION:Listowel Agricultural Hall
WEBSITE:http://www.fcc-fac.ca/en/LearningCentre/event_list_e.asp?blnSe
 arch=true&mnuEventType=0&mnuEventName=Any&mnuGeographicRegion=NA&start
 Date=&endDate=&search=Search
URL:http://www.fcc-fac.ca/en/LearningCentre/event_list_e.asp?blnSearch
 =true&mnuEventType=0&mnuEventName=Any&mnuGeographicRegion=NA&startDate
 =&endDate=&search=Search
CONTACT:
ORGANIZER:Farm Credit Canada (FCC)
ATTACH;FMTTYPE="image/jpeg":http://storage.ning.com/topology/rest/1.0/
 file/get/1091501399?profile=original
ATTENDEE;ROLE=REQ-PARTICIPANT;PARTSTAT=ACCEPTED;RSVP=TRUE;CN=AgOntario
 :https://ontag.farms.com/profile/AgOntario
END:VEVENT
END:VCALENDAR
