BEGIN:VCALENDAR
PRODID:NingEventWidget-v1
VERSION:2.0
METHOD:PUBLISH
BEGIN:VTIMEZONE
TZID:Pacific/Midway
X-LIC-LOCATION:Pacific/Midway
BEGIN:STANDARD
TZOFFSETFROM:-1100
TZOFFSETTO:-1100
TZNAME:SST
DTSTART:19700101T000000
END:STANDARD
END:VTIMEZONE
BEGIN:VEVENT
UID:3646443:Event:111485
DTSTAMP:20260419T040851Z
SUMMARY:FCC Young Farmer Summit - Kitchener
DESCRIPTION:The FCC Young Farmer Summit is a free event for anyone und
 er 40 involved in agriculture and food. Get real-world advice from eng
 aging speakers, network with peers and take control of your business j
 ourney. \r\nSpeaker\r\n\r\nDale Curd, CBC’s Hello Goodbye, Author, L
 iving Lightly \r\nEvan Shout, President and Founder, Maverick Ag\r\nD
 anielle Wildfong, FEA, Family Enterprise Advisor \r\nEmily O’Brien,
  Founder, Comeback Snacks \r\nKatelyn Duban, Emcee, Podcaster\r\n\r\n
  \n\nFor more information visit https://ontag.farms.com/events/fcc-you
 ng-farmer-summit-kitchener
DTSTART;TZID=Pacific/Midway:20230202T100000
DTEND;TZID=Pacific/Midway:20230202T150000
CATEGORIES:farmer, summit
LOCATION:Bingemans
WEBSITE:https://www.eventbrite.ca/e/fcc-young-farmer-summit-kitchener-
 registration-436221439067
URL:https://www.eventbrite.ca/e/fcc-young-farmer-summit-kitchener-regi
 stration-436221439067
CONTACT:
ORGANIZER:FCC Agriculture
ATTACH;FMTTYPE="image/jpeg":https://storage.ning.com/topology/rest/1.0
 /file/get/10894786064?profile=original
ATTENDEE;ROLE=REQ-PARTICIPANT;PARTSTAT=ACCEPTED;RSVP=TRUE;CN="OntAG Ad
 min":https://ontag.farms.com/profile/OntAGAdmin
END:VEVENT
END:VCALENDAR
