BEGIN:VCALENDAR
PRODID:NingEventWidget-v1
VERSION:2.0
METHOD:PUBLISH
BEGIN:VTIMEZONE
TZID:Pacific/Midway
X-LIC-LOCATION:Pacific/Midway
BEGIN:STANDARD
TZOFFSETFROM:-1100
TZOFFSETTO:-1100
TZNAME:SST
DTSTART:19700101T000000
END:STANDARD
END:VTIMEZONE
BEGIN:VEVENT
UID:3646443:Event:71362
DTSTAMP:20260422T162622Z
SUMMARY:FCC Young Farmer Summit
DESCRIPTION:Hear from outstanding speakers who will inspire, inform an
 d spark new ways of thinking. Plus, meet and make connections with lik
 e-minded entrepreneurs who are ready to take on all challenges.\r\nIf 
 you’re under 40 and involved in agriculture, agribusiness or agri-fo
 od, Ignite is the place for you. \n\nFor more information visit http
 s://ontag.farms.com/events/fcc-young-farmer-summit
DTSTART;TZID=Pacific/Midway:20171122T100000
DTEND;TZID=Pacific/Midway:20171122T153000
CATEGORIES:farmer, summit
LOCATION:Bingemans
WEBSITE:https://www.eventbrite.ca/e/ignite-fcc-young-farmer-summit-kit
 chener-registration-37957888065
URL:https://www.eventbrite.ca/e/ignite-fcc-young-farmer-summit-kitchen
 er-registration-37957888065
CONTACT:
ORGANIZER:Farm Credit Canada
ATTACH;FMTTYPE="image/jpeg":
ATTENDEE;ROLE=REQ-PARTICIPANT;PARTSTAT=ACCEPTED;RSVP=TRUE;CN="OntAG Ad
 min":https://ontag.farms.com/profile/OntAGAdmin
END:VEVENT
END:VCALENDAR
